BEGIN:VCALENDAR
VERSION:2.0
PRODID:-//ChamberMaster//Event Calendar 2.0//EN
METHOD:PUBLISH
X-PUBLISHED-TTL:P3D
REFRESH-INTERVAL:P3D
CALSCALE:GREGORIAN
BEGIN:VEVENT
DTSTART;VALUE=DATE:20191013
DTEND;VALUE=DATE:20191014
TRANSP:TRANSPARENT
X-MICROSOFT-CDO-ALLDAYEVENT:TRUE
SUMMARY:Dorf Kapelle Show Band Performs at Dorf Haus
DESCRIPTION:The Dorf Kapelle Show Band\, with the slogan\, "Join in the Fun\, Go Dorfin'" will perform ethnic style music of a typical European Village at the Dorf Haus\, Bavarian- style supper club in Roxbury\, near Sauk City\, Sunday\, Oct. 13.  \n\n \n\nThe bar opens at 10:30 a.m. for the German-inspired event featuring a Bavarian buffet at noon which includes Kasseler Rippchen\, Sauerbraten\, Spatzle\, Red Cabbage\, German Potato Salad and more.      \n\n \n\nThe Dorf Kapelle 16-piece band\, with performers from around Wisconsin\, will play on the raised stage from 1-3 p.m.  Music consists of German and Austrian waltzes\, marches and polkas along with arrangements Dorf Kapelle members have written featuring accordions\, trombones\, tubas\, alphorns and more. \n\n\n\n The cost is $42. Reservations are required by calling the Dorf Haus at (608) 643-3980. www.foodspot.com/dorfhaus
X-ALT-DESC;FMTTYPE=text/html:<span style="color:black\;"><span style="font-family:century\,serif\;"><span style="font-size:10.0pt\;">The Dorf Kapelle Show Band\, with the slogan\, &ldquo\;Join in the Fun\, Go Dorfin&rsquo\;&rdquo\; will perform ethnic&nbsp\;style&nbsp\;music of a typical European Village at the Dorf Haus\, Bavarian- style supper&nbsp\;club&nbsp\;in Roxbury\, near Sauk City\, Sunday\, Oct. 13. </span></span></span>&nbsp\;<br />\n&nbsp\;<br />\n<span style="color:black\;"><span style="font-family:century\,serif\;"><span style="font-size:10.0pt\;">The bar opens at 10:30 a.m. for the German-inspired event featuring a Bavarian buffet at noon which includes Kasseler Rippchen\, Sauerbraten\, Spatzle\, Red Cabbage\, German Potato Salad and more. &nbsp\;&nbsp\;&nbsp\;&nbsp\;&nbsp\;</span></span></span><br />\n&nbsp\;<br />\n<span style="color:black\;"><span style="font-family:century\,serif\;"><span style="font-size:10.0pt\;">The Dorf Kapelle 16-piece band\, with performers from around Wisconsin\, will play on the raised stage from 1-3 p.m.&nbsp\; Music consists of German and Austrian waltzes\, marches and polkas along with arrangements Dorf Kapelle members have written featuring accordions\, trombones\, tubas\, alphorns and more. </span></span></span><br />\n<br />\n<span style="color:black\;"><span style="font-family:century\,serif\;"><span style="font-size:10.0pt\;">&nbsp\;The cost is $42. Reservations are&nbsp\;required by calling the Dorf Haus at (608) 643-3980. <a href="http://www.foodspot.com/dorfhaus" target="_blank">www.foodspot.com/dorfhaus</a></span></span></span>
LOCATION:Dorf Haus
UID:e.1184.23594
SEQUENCE:3
DTSTAMP:20260423T095324Z
URL:http://members.saukprairie.com/events/details/dorf-kapelle-show-band-performs-at-dorf-haus-23594
END:VEVENT

END:VCALENDAR
