BEGIN:VCALENDAR
VERSION:2.0
PRODID:-//ChamberMaster//Event Calendar 2.0//EN
METHOD:PUBLISH
X-PUBLISHED-TTL:P3D
REFRESH-INTERVAL:P3D
CALSCALE:GREGORIAN
BEGIN:VEVENT
DTSTART;VALUE=DATE:20171008
DTEND;VALUE=DATE:20171009
TRANSP:TRANSPARENT
X-MICROSOFT-CDO-ALLDAYEVENT:TRUE
SUMMARY:Dorf Kapelle Show Band Performs at Dorf Haus Oct. 8
DESCRIPTION:The Dorf Kapelle Show Band\, with the slogan\, "Join in the Fun\, Go Dorfin'" will perform ethnic style music of a typical European Village at the Dorf Haus\, Bavarian- style supper club in Roxbury\, near Sauk City\, Sunday\, Oct. 8. The Dorf Kapelle and Dorf Haus have been keeping  the Oktoberfest tradition alive with a Sunday Bavarian-style buffet and performance for the last 24 years\, according to Rebecca Maier-Frey\, second generation  co-owner of the Dorf Haus.\n\n\n\nThe Dorf Kapelle 16-piece band\, consisting of performers from around Wisconsin\, play music from  Germany and Austria\, along with arrangements Dorf Kapelle  members have written\, including waltzes\,  marches and polkas featuring accordions\, trombones\, tubas\, alphorns and more. \n\n\n\nThe Germany-inspired event starts with a  buffet which includes Kasseler Rippchen\, Sauerbraten\, Spatzle\, Red Cabbage\, German Potato Salad and more. The Dorf Haus recently earned a first place Star Award in Madison Newspapers annual reader poll for best buffet.          \n\n\n\nDinner will be served starting at noon with the performance on the raised stage from 1-3 p.m. The bar opens at 10:30 a.m. The cost is $42. Reservations are required by calling the Dorf Haus at (608) 643-3980. www.foodspot.com/dorfhaus
X-ALT-DESC;FMTTYPE=text/html:<span style="color:black\;"><span style="font-family:century\,serif\;"><span style="font-size:8.0pt\;">The Dorf Kapelle Show Band\, with the slogan\, &ldquo\;Join in the Fun\, Go Dorfin&rsquo\;&rdquo\; will perform ethnic&nbsp\;style&nbsp\;music of a typical European Village at the Dorf Haus\, Bavarian- style supper&nbsp\;club&nbsp\;in Roxbury\, near Sauk City\, Sunday\, Oct. 8. The Dorf Kapelle and Dorf Haus have been keeping&nbsp\; the Oktoberfest tradition alive with a Sunday Bavarian-style buffet and performance for the last 24 years\, according to Rebecca Maier-Frey\, second generation&nbsp\; co-owner of the Dorf Haus.</span></span></span><br />\n<br />\n<span style="color:black\;"><span style="font-family:century\,serif\;"><span style="font-size:10.0pt\;">The Dorf Kapelle 16-piece band\, consisting of performers from around Wisconsin\, play music from&nbsp\; Germany and Austria\, along with arrangements Dorf Kapelle&nbsp\; members have written\, including waltzes\,&nbsp\; marches and polkas featuring accordions\, trombones\, tubas\, alphorns and more. </span></span></span><br />\n<br />\n<span style="color:black\;"><span style="font-family:century\,serif\;"><span style="font-size:10.0pt\;">The Germany-inspired event starts with a&nbsp\; buffet which includes Kasseler Rippchen\, Sauerbraten\, Spatzle\, Red Cabbage\, German Potato Salad and more. The Dorf Haus recently earned a first place Star Award in Madison Newspapers annual reader poll for best buffet.&nbsp\;&nbsp\;&nbsp\;&nbsp\;&nbsp\;&nbsp\;&nbsp\;&nbsp\;&nbsp\;&nbsp\;</span></span></span><br />\n<br />\n<span style="color:black\;"><span style="font-family:century\,serif\;"><span style="font-size:10.0pt\;">Dinner will be served starting at noon with the performance on the raised stage from 1-3 p.m. The bar opens at 10:30 a.m. The cost is $42. Reservations are&nbsp\;required by calling the Dorf Haus at (608) 643-3980. <a href="http://www.foodspot.com/dorfhaus">www.foodspot.com/dorfhaus</a></span></span></span>
LOCATION:
UID:e.1184.12945
SEQUENCE:3
DTSTAMP:20260424T221913Z
URL:http://members.saukprairie.com/events/details/dorf-kapelle-show-band-performs-at-dorf-haus-oct-8-12945
END:VEVENT

END:VCALENDAR
