BEGIN:VCALENDAR
VERSION:2.0
PRODID:-//ChamberMaster//Event Calendar 2.0//EN
METHOD:PUBLISH
X-PUBLISHED-TTL:P3D
REFRESH-INTERVAL:P3D
CALSCALE:GREGORIAN
BEGIN:VEVENT
DTSTART:20220701T183000Z
DTEND:20220701T213000Z
X-MICROSOFT-CDO-ALLDAYEVENT:FALSE
SUMMARY:Dr. Paul's Lab Open House
DESCRIPTION:Please join Dr. Paul's Lab for their Open House.\n\n\n\nNature's Finest Remedies for Livestock\, Pets & People
X-ALT-DESC;FMTTYPE=text/html:Please join Dr. Paul&#39\;s Lab for their Open House.<br />\n<br />\nNature&#39\;s Finest Remedies for Livestock\, Pets &amp\; People
LOCATION:9559 County Road Y Mazomanie\, WI 53560
UID:e.1184.28168
SEQUENCE:3
DTSTAMP:20260423T094241Z
URL:http://members.saukprairie.com/events/details/dr-paul-s-lab-open-house-28168
END:VEVENT

END:VCALENDAR
