BEGIN:VCALENDAR
VERSION:2.0
PRODID:-//ChamberMaster//Event Calendar 2.0//EN
METHOD:PUBLISH
X-PUBLISHED-TTL:P3D
REFRESH-INTERVAL:P3D
CALSCALE:GREGORIAN
BEGIN:VEVENT
DTSTART:20221112T160000Z
DTEND:20221112T180000Z
X-MICROSOFT-CDO-ALLDAYEVENT:FALSE
SUMMARY:Dragonfly Ornaments with Roberta Condon
DESCRIPTION:Using natural materials such as branches\, leaves\, twigs\, and more\, instructor Roberta Condon will guide students through the process of creating dragonfly shaped ornaments. Each person can expect to make anywhere from two to six ornaments\, depending on how fast you work. No prior experience is necessary! All materials provided.
X-ALT-DESC;FMTTYPE=text/html:<span style="color:rgb(0\, 0\, 0)\; font-family:arial\,helvetica\,sans-serif">Using natural materials such as branches\, leaves\, twigs\, and more\, instructor Roberta Condon will guide students through the process of creating dragonfly shaped ornaments. Each person can expect to make anywhere from two to six ornaments\, depending on how fast you work. No prior experience is necessary! All materials provided.</span>
LOCATION:590 Water St\, Prairie Du Sac\, WI 53578
UID:e.1184.28205
SEQUENCE:3
DTSTAMP:20260421T033253Z
URL:http://members.saukprairie.com/events/details/dragonfly-ornaments-with-roberta-condon-28205
END:VEVENT

END:VCALENDAR
