BEGIN:VCALENDAR
VERSION:2.0
PRODID:-//ChamberMaster//Event Calendar 2.0//EN
METHOD:PUBLISH
X-PUBLISHED-TTL:P3D
REFRESH-INTERVAL:P3D
CALSCALE:GREGORIAN
BEGIN:VEVENT
DTSTART:20240504T140000Z
DTEND:20240504T210000Z
X-MICROSOFT-CDO-ALLDAYEVENT:FALSE
SUMMARY:Draw & Paint Birds of Prairie Du Sac and the Wisconsin River with Theo Howard
DESCRIPTION:Draw & Paint Birds of Prairie Du Sac and the Wisconsin River with Theo Howard\n\nSaturday & Sunday\, May 4-5\, 2024 | 9a-4p | Deadline to register: 4/25/24\n\n$225 + $20 kit fee\n\nClass and Room Package available including 2-3 hotel nights for a grand total of $465-$575 (room offered at a discounted rate through River Arts)\n\nAges 16+\n\nREGISTER\n\nThis two-day workshop will cover how to quickly paint and paint our extraordinary regional birds. Gestural drawing\, composition\, expression\, and exciting color relationships will be emphasized.  We will work through the process of developing an artwork\, from simple sketches\, to refinement\, and then putting the drawing on canvas or paper to be painted\, depending on your medium of choice.\n\n\n\nArt supplies will be provided\, and include:\n\n\n	Watercolor paper sketchbook\n	Drawing supplies\n	A portable watercolor kit including paints and brushes
X-ALT-DESC;FMTTYPE=text/html:<p><strong>Draw &amp\; Paint Birds of Prairie Du Sac and the Wisconsin River with Theo Howard</strong></p>\n\n<p><strong>Saturday &amp\; Sunday\, May 4-5\, 2024 | 9a-4p</strong>&nbsp\;| Deadline to register: 4/25/24</p>\n\n<p><strong>$225 + $20 kit fee</strong></p>\n\n<p><strong>Class and&nbsp\;<a href="https://www.riverartsinc.org/room-package/" style="padding: 0px\; margin: 0px\; text-decoration-line: none\; color: rgb(50\, 74\, 178) !important\;">Room Package</a>&nbsp\;available including 2-3 hotel nights for a grand total of $465-$575&nbsp\;</strong>(room offered at a discounted rate through River Arts)</p>\n\n<p><strong>Ages 16+</strong></p>\n\n<div><a class="vc_general vc_btn3 vc_btn3-size-md vc_btn3-shape-rounded vc_btn3-style-modern vc_btn3-color-chino" href="https://www.riverartsinc.org/product/birds-howard-class/" style="padding: 14px 20px\; margin: 0px\; text-decoration-line: none\; color: rgb(255\, 255\, 255)\; display: inline-block\; text-align: center\; vertical-align: middle\; cursor: pointer\; background-image: linear-gradient(rgba(255\, 255\, 255\, 0.2) 0px\, rgba(255\, 255\, 255\, 0.01) 100%)\; background-color: rgb(206\, 194\, 171)\; border: 1px solid rgb(206\, 194\, 171)\; box-sizing: border-box\; overflow-wrap: break-word\; user-select: none\; position: relative\; top: 0px\; transition: all 0.2s ease-in-out 0s\; line-height: normal\; box-shadow: none\; font-size: 14px\; background-repeat: repeat-x\; border-radius: 5px\;" title="Draw &amp\; Paint Birds of Prairie Du Sac and the Wisconsin River with Theo Howard">REGISTER</a></div>\n\n<p>This two-day workshop will cover how to quickly paint and paint our extraordinary regional birds. Gestural drawing\, composition\, expression\, and exciting color relationships will be emphasized.&nbsp\; We will work through the process of developing an artwork\, from simple sketches\, to refinement\, and then putting the drawing on canvas or paper to be painted\, depending on your medium of choice.</p>\n\n<div>\n<div>\n<p>Art supplies will be provided\, and include:</p>\n\n<ul>\n	<li>Watercolor paper sketchbook</li>\n	<li>Drawing supplies</li>\n	<li>A portable watercolor kit including paints and brushes&nbsp\;</li>\n</ul>\n</div>\n</div>\n
LOCATION:River Arts on Water 590 Water St Prairie du Sac\, WI 53578
UID:e.1184.32327
SEQUENCE:3
DTSTAMP:20260419T205513Z
URL:http://members.saukprairie.com/events/details/draw-paint-birds-of-prairie-du-sac-and-the-wisconsin-river-with-theo-howard-32327
END:VEVENT

END:VCALENDAR
