BEGIN:VCALENDAR
VERSION:2.0
PRODID:-//ChamberMaster//Event Calendar 2.0//EN
METHOD:PUBLISH
X-PUBLISHED-TTL:P3D
REFRESH-INTERVAL:P3D
CALSCALE:GREGORIAN
BEGIN:VEVENT
DTSTART:20170309T173000Z
DTEND:20170309T184500Z
X-MICROSOFT-CDO-ALLDAYEVENT:FALSE
SUMMARY:"Dreaming Big\, Start Small" an educational lunch
DESCRIPTION:What?\n\nInvolved in a small business?\n\nAre you an entrepreneur looking to stay ahead of the game? \n\n\n\nPlease join us for a lunch to learn about how you can stay ahead of the curve!\n\n\n\nWhen?\n\nMarch 9\n\n11:30am-12:45pm\n\n\n\nWhere?\n\nSauk Prairie Healthcare\n\n260 26th Street\n\nPrairie du Sac\, WI 53578\n\n\n\nPresented by: ROGER HENSON\, MADISON SCORE
X-ALT-DESC;FMTTYPE=text/html:<p>What?<br />\nInvolved in a small business?<br />\nAre you an entrepreneur looking to stay ahead of the game?&nbsp\;<br />\n<br />\nPlease join us for a lunch to learn about how you can stay ahead of the curve!<br />\n<br />\nWhen?<br />\nMarch 9<br />\n11:30am-12:45pm<br />\n<br />\nWhere?<br />\nSauk Prairie Healthcare<br />\n260 26th Street<br />\nPrairie du Sac\, WI 53578<br />\n<br />\nPresented by: ROGER HENSON\, MADISON SCORE</p>\n
LOCATION:
UID:e.1184.9999
SEQUENCE:3
DTSTAMP:20260425T110028Z
URL:http://members.saukprairie.com/events/details/dreaming-big-start-small-an-educational-lunch-9999
END:VEVENT

END:VCALENDAR
