BEGIN:VCALENDAR
VERSION:2.0
PRODID:-//ChamberMaster//Event Calendar 2.0//EN
METHOD:PUBLISH
X-PUBLISHED-TTL:P3D
REFRESH-INTERVAL:P3D
CALSCALE:GREGORIAN
BEGIN:VEVENT
DTSTART:20210703T160000Z
DTEND:20210703T190000Z
X-MICROSOFT-CDO-ALLDAYEVENT:FALSE
SUMMARY:Drive Thru BBQ Chicken Dinner
DESCRIPTION:DRIVE THRU Barbecue Chicken Dinner at Black Hawk-Bethlehem UMC\n\n\n\nServing 11:00-2:00   Chicken Dinner (no chicken only)\n\nmeal includes cole slaw\, baked beans\, roll+butter\, chips\n\n$12.00 each meal (cash sales\n\n\n\nTent with Tables and chairs available for eating on the grounds\n\nOrganized by the Black Hawk-Bethlehem & Denzer United Methodist Churches\n\n\n\nON-SITE FUN FOR THE WHOLE FAMILY!\n\nOlde Time Fun & Games with Prizes! Starts at 1:00 PM\n\nFace Painting & Carnival Games\n\nYouth Food Stand\n\nNovelty Sales: T-shirts & Toys\n\nScavenger Hunt (click here to download the form) (Return form by 3pm on Saturday)\n\n\n\nClick here to view map of grounds.
X-ALT-DESC;FMTTYPE=text/html:<strong>DRIVE THRU Barbecue Chicken Dinner at Black Hawk-Bethlehem UMC</strong><br />\n<br />\nServing 11:00-2:00 &frac12\; Chicken Dinner (no chicken only)<br />\nmeal includes cole slaw\, baked beans\, roll+butter\, chips<br />\n$12.00 each meal (cash sales<br />\n<br />\nTent with Tables and chairs available for eating on the grounds<br />\nOrganized by the Black Hawk-Bethlehem &amp\; Denzer United Methodist Churches<br />\n<br />\nON-SITE FUN FOR THE WHOLE FAMILY!<br />\nOlde Time Fun &amp\; Games with Prizes! Starts at 1:00 PM<br />\nFace Painting &amp\; Carnival Games<br />\nYouth Food Stand<br />\nNovelty Sales: T-shirts &amp\; Toys<br />\nScavenger Hunt <a href="https://chambermaster.blob.core.windows.net/userfiles/UserFiles/chambers/1184/File/ScavengerHunt2021.pdf">(click here to download the form)</a>&nbsp\;(Return form by 3pm on Saturday)<br />\n<br />\n<a href="https://chambermaster.blob.core.windows.net/userfiles/UserFiles/chambers/1184/File/MapforChickenDinner.pdf">Click here to view map of grounds.</a>
LOCATION:
UID:e.1184.26657
SEQUENCE:3
DTSTAMP:20260422T021024Z
URL:http://members.saukprairie.com/events/details/drive-thru-bbq-chicken-dinner-26657
END:VEVENT

END:VCALENDAR
