BEGIN:VCALENDAR
VERSION:2.0
PRODID:-//ChamberMaster//Event Calendar 2.0//EN
METHOD:PUBLISH
X-PUBLISHED-TTL:P3D
REFRESH-INTERVAL:P3D
CALSCALE:GREGORIAN
BEGIN:VEVENT
DTSTART;VALUE=DATE:20200717
DTEND;VALUE=DATE:20200718
TRANSP:TRANSPARENT
X-MICROSOFT-CDO-ALLDAYEVENT:TRUE
SUMMARY:Drive Thru Ice Cream Social
DESCRIPTION:Celebrate Sauk County Farmers!\n\n\n\nThe Farmer Angel Network has partnered with area agri-businesses to celebrate and thank farmers!\n\n\n\nFarmers are invited to drive thru to receive individual ice cream cups and other goodies for everyone in your vehickle.\n\n\n\nThis is a "Farmers Only" event - so let your farmer friends and neighbors know they are welcome.\n\n\n\nLike us on Facebook "Farmer Angel Network" to keep updated with any changes.\n\n	July 15th from 5-7pm at Lime Ridge Ag Supply\, 115 Minor Street\n	July 17 from 1-3pm at Compeer Office in Prairie du Sac\, Norther Ridge Drive\n	July 24 from 1-3pm at River Valley Vet Clinic in Plain\, 395 Main Street\n	July 25 from 4-9pm Scenic Bluff Equipment in Baraboo\, 1139 8th Street
X-ALT-DESC;FMTTYPE=text/html:Celebrate Sauk County Farmers!<br />\n<br />\nThe Farmer Angel Network has partnered with area agri-businesses to celebrate and thank farmers!<br />\n<br />\nFarmers are invited to drive thru to receive individual ice cream cups and other goodies for everyone in your vehickle.<br />\n<br />\nThis is a &quot\;Farmers Only&quot\; event - so let your farmer friends and neighbors know they are welcome.<br />\n<br />\nLike us on Facebook &quot\;Farmer Angel Network&quot\; to keep updated with any changes.\n<ul>\n	<li>July 15th from 5-7pm at Lime Ridge Ag Supply\, 115 Minor Street</li>\n	<li>July 17 from 1-3pm at Compeer Office in Prairie du Sac\, Norther Ridge Drive</li>\n	<li>July 24 from 1-3pm at River Valley Vet Clinic in Plain\, 395 Main Street</li>\n	<li>July 25 from 4-9pm Scenic Bluff Equipment in Baraboo\, 1139 8th Street</li>\n</ul>\n
LOCATION:
UID:e.1184.26038
SEQUENCE:3
DTSTAMP:20260422T224834Z
URL:http://members.saukprairie.com/events/details/drive-thru-ice-cream-social-26038
END:VEVENT

END:VCALENDAR
