BEGIN:VCALENDAR
VERSION:2.0
PRODID:-//ChamberMaster//Event Calendar 2.0//EN
METHOD:PUBLISH
X-PUBLISHED-TTL:P3D
REFRESH-INTERVAL:P3D
CALSCALE:GREGORIAN
BEGIN:VEVENT
DTSTART:20170210T010000Z
DTEND:20170210T030000Z
X-MICROSOFT-CDO-ALLDAYEVENT:FALSE
SUMMARY:Driveway Thriftdwellers at the Woodshed Ale House
DESCRIPTION:We play Roll music. That's right. We have officially claimed the ripe\, unused half of Rock and Roll. It's like nothing you've never seen before: Guitars are played and sometimes some other instruments\, this one guy plays pedal steel\, a cactus plays an electric bass\, maybe we'll find someone to saw up some fiddle\, and one of several people may be hitting some drums. That's roll\, folks.\n\n\n\nSinging is also common.
X-ALT-DESC;FMTTYPE=text/html:<span style="color: rgb(75\, 79\, 86)\; font-family: helvetica\, arial\, sans-serif\; font-size: 14px\;">We play Roll music. That&#39\;s right. We have officially claimed the ripe\, unused half of Rock and Roll. It&#39\;s like nothing you&#39\;ve never seen before: Guitars are played and sometimes some other instruments\, this one guy plays pedal steel\, a cactus plays an electric bass\, maybe we&#39\;ll find someone to saw up some fiddle\, and one of several people may be hitting some drums. That&#39\;s roll\, folks.</span><br style="color: rgb(75\, 79\, 86)\; font-family: helvetica\, arial\, sans-serif\; font-size: 14px\;" />\n<br style="color: rgb(75\, 79\, 86)\; font-family: helvetica\, arial\, sans-serif\; font-size: 14px\;" />\n<span style="color: rgb(75\, 79\, 86)\; font-family: helvetica\, arial\, sans-serif\; font-size: 14px\;">Singing is also common.</span>
LOCATION:Woodshed Ale House 101 Jackson Street Sauk City\, WI 53583
UID:e.1184.9424
SEQUENCE:3
DTSTAMP:20260425T110503Z
URL:http://members.saukprairie.com/events/details/driveway-thriftdwellers-at-the-woodshed-ale-house-9424
END:VEVENT

END:VCALENDAR
