BEGIN:VCALENDAR
VERSION:2.0
PRODID:-//ChamberMaster//Event Calendar 2.0//EN
METHOD:PUBLISH
X-PUBLISHED-TTL:P3D
REFRESH-INTERVAL:P3D
CALSCALE:GREGORIAN
BEGIN:VEVENT
DTSTART:20230227T151500Z
DTEND:20230227T160000Z
X-MICROSOFT-CDO-ALLDAYEVENT:FALSE
SUMMARY:Drop-In Mindfulness
DESCRIPTION:Join certified Mindfulness Meditation Teacher Diane Matzke for drop-in mindfulness sessions in the Ruth Culver Community Library's community room. Sessions held the second and fourth Monday of each month. No registration is required. \n\nMindfulness has many benefits. Those benefits can be summarized into three main categories: focused attention\, emotional regulation and self-awareness.
X-ALT-DESC;FMTTYPE=text/html:<p>Join certified Mindfulness Meditation Teacher Diane Matzke for drop-in mindfulness sessions in the Ruth Culver Community Library&#39\;s community room. Sessions held the second and fourth Monday of each month. No registration is required.&nbsp\;</p>\n\n<p>Mindfulness has many benefits. Those benefits can be summarized into three main categories: focused attention\, emotional regulation and self-awareness.</p>\n
LOCATION:Ruth Culver Community Library 540 Water Street\, Prairie du Sac
UID:e.1184.29890
SEQUENCE:3
DTSTAMP:20260420T180346Z
URL:http://members.saukprairie.com/events/details/drop-in-mindfulness-02-27-2023-29890
END:VEVENT

END:VCALENDAR
