BEGIN:VCALENDAR
VERSION:2.0
PRODID:-//ChamberMaster//Event Calendar 2.0//EN
METHOD:PUBLISH
X-PUBLISHED-TTL:P3D
REFRESH-INTERVAL:P3D
CALSCALE:GREGORIAN
BEGIN:VEVENT
DTSTART:20180524T233000Z
DTEND:20180525T003000Z
X-MICROSOFT-CDO-ALLDAYEVENT:FALSE
SUMMARY:Drug Awareness & Prevention Program
DESCRIPTION:Thursday\, May 24\, 2018\n\n6:30 p.m.   7:30 p.m.\n\nFirst United Church of Christ\n\n504 Washington Ave.\, Sauk City\, WI\n\n \n\n\n\nDrug Awareness & Prevention Program\n\nFor\n\nYouth\, Parents\, Guardians\, Grandparents (approx. grades 5 & up)\n\nGuest Speakers:  Jame Winn\, Detective Paul Deuman\, CARE Program\n\n(Jame is nominated for the "Making A Difference Award" with Channel 15 for her presentations and goal of preventing drug addiction/abuse.  Channel 15 will be present and will be taping this presentation)\n\n\n\nContact Theresa Grimes at 608-963-8940 or teestahoe11@gmail.com with any questions.  This presentation is open to the public & is FREE!!
X-ALT-DESC;FMTTYPE=text/html:<span style="font-size:18.0pt\;">Thursday\, May 24\, 2018</span><br />\n<span style="font-size:18.0pt\;">6:30 p.m. &ndash\; 7:30 p.m.</span><br />\n<span style="font-size:18.0pt\;">First United Church of Christ</span><br />\n<span style="font-size:18.0pt\;">504 Washington Ave.\, Sauk City\, WI</span><br />\n&nbsp\;<br />\n<br />\n<span style="font-size:18.0pt\;">Drug Awareness &amp\; Prevention Program</span><br />\n<span style="font-size:18.0pt\;">For</span><br />\n<span style="font-size:18.0pt\;">Youth\, Parents\, Guardians\, Grandparents (approx. grades 5 &amp\; up)</span><br />\n<span style="font-size:16.0pt\;">Guest Speakers:&nbsp\; Jame Winn\, Detective Paul Deuman\, CARE Program</span><br />\n<span style="font-size:16.0pt\;">(Jame is nominated for the &ldquo\;Making A Difference Award&rdquo\; with Channel 15 for her presentations and goal of preventing drug addiction/abuse.&nbsp\; Channel 15 will be present and will be taping this presentation)</span><br />\n<br />\n<span style="font-size:14.0pt\;">Contact Theresa Grimes at 608-963-8940 or </span><a href="mailto:teestahoe11@gmail.com"><span style="font-size:14.0pt\;">teestahoe11@gmail.com</span></a><span style="font-size:14.0pt\;"> with any questions.&nbsp\; This presentation is open to the public &amp\; is FREE!!</span>
LOCATION:
UID:e.1184.18124
SEQUENCE:3
DTSTAMP:20260424T111907Z
URL:http://members.saukprairie.com/events/details/drug-awareness-prevention-program-18124
END:VEVENT

END:VCALENDAR
