BEGIN:VCALENDAR
VERSION:2.0
PRODID:-//ChamberMaster//Event Calendar 2.0//EN
METHOD:PUBLISH
X-PUBLISHED-TTL:P3D
REFRESH-INTERVAL:P3D
CALSCALE:GREGORIAN
BEGIN:VEVENT
DTSTART;VALUE=DATE:20220423
DTEND;VALUE=DATE:20220424
TRANSP:TRANSPARENT
X-MICROSOFT-CDO-ALLDAYEVENT:TRUE
SUMMARY:Dueling Pianos
DESCRIPTION:Sauk Prairie FFA Alumni & Supporters Presents Dueling Pianos.\n\n\n\nWollershim Wine | Refreshments | Snacks\n\n\n\nAll proceeds benefit the future Jeff Hicken Horticultural Learning Center. Click here to learn more.\n\n\n\nTo purchase tickets\, please visit: www.saukprairieffa.com/donate
X-ALT-DESC;FMTTYPE=text/html:Sauk Prairie FFA Alumni &amp\; Supporters Presents Dueling Pianos.<br />\n<br />\nWollershim Wine | Refreshments | Snacks<br />\n<br />\nAll proceeds benefit the future Jeff Hicken Horticultural Learning Center. <a href="https://chambermaster.blob.core.windows.net/userfiles/UserFiles/chambers/1184/File/JHHLCFlyer1.23.pdf">Click here to learn more.</a><br />\n<br />\nTo purchase tickets\, please visit: <a href="http://www.saukprairieffa.com/donate">www.saukprairieffa.com/donate</a>
LOCATION:The venue will include a pavilion/tent/ please dress accordingly 998 15th Street Prairie du Sac
UID:e.1184.27124
SEQUENCE:3
DTSTAMP:20260421T132906Z
URL:http://members.saukprairie.com/events/details/dueling-pianos-27124
END:VEVENT

END:VCALENDAR
