BEGIN:VCALENDAR
VERSION:2.0
PRODID:-//ChamberMaster//Event Calendar 2.0//EN
METHOD:PUBLISH
X-PUBLISHED-TTL:P3D
REFRESH-INTERVAL:P3D
CALSCALE:GREGORIAN
BEGIN:VEVENT
DTSTART:20170204T010000Z
DTEND:20170204T040000Z
X-MICROSOFT-CDO-ALLDAYEVENT:FALSE
SUMMARY:Dueling Pianos at the Dorf Haus
DESCRIPTION:An annual fundraiser for River Arts Inc.\, enjoy a night of live music where you can request your own songs\, bid on incredible silent auction packages\, and enter to win the 50/50 raffle.  \n\n \n\nChris Heroldt and Sara Schreiner of the Chicago Keys Dueling Piano show return to the Dorf Haus after 2 years in a row of sold out shows.  This is the party you don't want to miss!
X-ALT-DESC;FMTTYPE=text/html:An annual fundraiser for River Arts Inc.\, enjoy a night of live music where you can request your own songs\, bid on incredible silent auction packages\, and enter to win the 50/50 raffle. &nbsp\;<br />\n&nbsp\;<br />\nChris Heroldt and Sara Schreiner of the Chicago Keys Dueling Piano show return to the Dorf Haus after 2 years in a row of sold out shows. &nbsp\;This is the party you don&#39\;t want to miss!
LOCATION:Dorf Haus Supper Club\, 8931 County Road Y\, Sauk City\, WI
UID:e.1184.8531
SEQUENCE:3
DTSTAMP:20260425T110140Z
URL:http://members.saukprairie.com/events/details/dueling-pianos-at-the-dorf-haus-02-03-2017-8531
END:VEVENT

END:VCALENDAR
