BEGIN:VCALENDAR
VERSION:2.0
PRODID:-//ChamberMaster//Event Calendar 2.0//EN
METHOD:PUBLISH
X-PUBLISHED-TTL:P3D
REFRESH-INTERVAL:P3D
CALSCALE:GREGORIAN
BEGIN:VEVENT
DTSTART:20230226T010000Z
DTEND:20230226T040000Z
X-MICROSOFT-CDO-ALLDAYEVENT:FALSE
SUMMARY:Dueling Pianos at the Dorf Haus
DESCRIPTION:A dueling piano show where you can request your favorite songs! Featuring Chris Heroldt and special guest.  Sold out the last 7 years in a row! Dinner and Show Only options available. 18+ event.
X-ALT-DESC;FMTTYPE=text/html:<p>A dueling piano show where you can request your favorite songs! Featuring Chris Heroldt and special guest.&nbsp\; Sold out the last 7 years in a row! Dinner and Show Only options available. 18+ event.</p>\n
LOCATION:8931 County Hwy Y\, Sauk City\, WI 53583
UID:e.1184.28216
SEQUENCE:3
DTSTAMP:20260420T205112Z
URL:http://members.saukprairie.com/events/details/dueling-pianos-at-the-dorf-haus-28216
END:VEVENT

END:VCALENDAR
