BEGIN:VCALENDAR
VERSION:2.0
PRODID:-//ChamberMaster//Event Calendar 2.0//EN
METHOD:PUBLISH
X-PUBLISHED-TTL:P3D
REFRESH-INTERVAL:P3D
CALSCALE:GREGORIAN
BEGIN:VEVENT
DTSTART:20191124T010000Z
DTEND:20191124T040000Z
X-MICROSOFT-CDO-ALLDAYEVENT:FALSE
SUMMARY:Dueling Pianos at the Dorf Haus (November 2019)
DESCRIPTION:Dueling Pianos at the Dorf Haus- 2 DATES!\n\nat the Dorf Haus Supper Club | 8931 County Hwy Y\, Sauk City\, WI 53583\n\nSaturday\, November 23rd\, 2019 | Dinner and Show 6-10pm l Show Only 7-10pm\n\nFriday\, February 14th\, 2020 | Dinner and Show 6-10pm l Show Only 7-10pm\n\nA dueling piano show where you can request your favorite songs! Featuring Sara Schreiner and Chris Heroldt of the Chicago Keys.  Sold out the last 5 years in a row!\n\n\nTickets (must be purchased by table of 4\, 6\, or 8):\n\n$25/person Show Only\n\n$50/person Dinner & Show\n\n$20/person Obstructed View Show Only\n\n *Appetizers available for purchase after 8:30pm for Show Only Tickets\n\n* Dinner includes beverage\, choice of 4 entrees\, dessert\, tax and tip
X-ALT-DESC;FMTTYPE=text/html:<p><strong>Dueling Pianos at the Dorf Haus- 2 DATES!</strong></p>\n\n<p><strong>at the Dorf Haus Supper Club | 8931 County Hwy Y\, Sauk City\, WI 53583</strong></p>\n\n<p>Saturday\, November 23rd\, 2019 | Dinner and Show 6-10pm l Show Only 7-10pm</p>\n\n<p>Friday\, February 14th\, 2020 | Dinner and Show 6-10pm l Show Only 7-10pm</p>\n\n<p>A dueling piano show where you can request your favorite songs! Featuring Sara Schreiner and Chris Heroldt of the Chicago Keys.&nbsp\; Sold out the last 5 years in a row!</p>\n\n<hr />\n<p>Tickets (must be purchased by table of 4\, 6\, or 8):</p>\n\n<p>$25/person Show Only</p>\n\n<p>$50/person Dinner &amp\; Show</p>\n\n<p>$20/person Obstructed View Show Only</p>\n\n<p>&nbsp\;*Appetizers available for purchase after 8:30pm for Show Only Tickets</p>\n\n<p>* Dinner includes beverage\, choice of 4 entrees\, dessert\, tax and tip</p>\n
LOCATION:Dorf Haus Supper Club | 8931 County Hwy Y\, Sauk City\, WI 53583
UID:e.1184.22522
SEQUENCE:3
DTSTAMP:20260423T083520Z
URL:http://members.saukprairie.com/events/details/dueling-pianos-at-the-dorf-haus-november-2019-22522
END:VEVENT

END:VCALENDAR
