BEGIN:VCALENDAR
VERSION:2.0
PRODID:-//ChamberMaster//Event Calendar 2.0//EN
METHOD:PUBLISH
X-PUBLISHED-TTL:P3D
REFRESH-INTERVAL:P3D
CALSCALE:GREGORIAN
BEGIN:VEVENT
DTSTART:20200215T010000Z
DTEND:20200215T040000Z
X-MICROSOFT-CDO-ALLDAYEVENT:FALSE
SUMMARY:Dueling Pianos: February 2020
DESCRIPTION:Dueling Pianos at the Dorf Haus- 2 DATES!\n\nat the Dorf Haus Supper Club | 8931 County Hwy Y\, Sauk City\, WI 53583\n\n \n\nFriday\, February 14th\, 2020 | Dinner and Show 6-10pm l Show Only 7-10pm\n\nA dueling piano show where you can request your favorite songs! Featuring Sara Schreiner and Chris Heroldt of the Chicago Keys.  Sold out the last 5 years in a row!
X-ALT-DESC;FMTTYPE=text/html:<p><strong>Dueling Pianos at the Dorf Haus- 2 DATES!</strong></p>\n\n<p><strong>at the Dorf Haus Supper Club | 8931 County Hwy Y\, Sauk City\, WI 53583</strong><br />\n&nbsp\;</p>\n\n<p>Friday\, February 14th\, 2020 | Dinner and Show 6-10pm l Show Only 7-10pm</p>\n\n<p>A dueling piano show where you can request your favorite songs! Featuring Sara Schreiner and Chris Heroldt of the Chicago Keys.&nbsp\; Sold out the last 5 years in a row!</p>\n
LOCATION:Dorf Haus Supper Club | 8931 County Hwy Y\, Sauk City\, WI 53583
UID:e.1184.22742
SEQUENCE:3
DTSTAMP:20260423T053729Z
URL:http://members.saukprairie.com/events/details/dueling-pianos-february-2020-22742
END:VEVENT

END:VCALENDAR
