BEGIN:VCALENDAR
VERSION:2.0
PRODID:-//ChamberMaster//Event Calendar 2.0//EN
METHOD:PUBLISH
X-PUBLISHED-TTL:P3D
REFRESH-INTERVAL:P3D
CALSCALE:GREGORIAN
BEGIN:VEVENT
DTSTART:20191124T010000Z
DTEND:20191124T040000Z
X-MICROSOFT-CDO-ALLDAYEVENT:FALSE
SUMMARY:Dueling Pianos: November 2019
DESCRIPTION:Dueling Pianos at the Dorf Haus- 2 DATES!\n\nat the Dorf Haus Supper Club | 8931 County Hwy Y\, Sauk City\, WI 53583\n\nSaturday\, November 23rd\, 2019 | Dinner and Show 6-10pm l Show Only 7-10pm\n\n\n\nA dueling piano show where you can request your favorite songs! Featuring Sara Schreiner and Chris Heroldt of the Chicago Keys.  Sold out the last 5 years in a row!
X-ALT-DESC;FMTTYPE=text/html:<p><strong>Dueling Pianos at the Dorf Haus- 2 DATES!</strong></p>\n\n<p><strong>at the Dorf Haus Supper Club | 8931 County Hwy Y\, Sauk City\, WI 53583</strong></p>\n\n<p>Saturday\, November 23rd\, 2019 | Dinner and Show 6-10pm l Show Only 7-10pm<br />\n<br />\n<span style="color:rgb(0\, 0\, 0)\; font-family:arial\,helvetica\,sans-serif">A dueling piano show where you can request your favorite songs! Featuring Sara Schreiner and Chris Heroldt of the Chicago Keys.&nbsp\; Sold out the last 5 years in a row!</span></p>\n
LOCATION:Dorf Haus Supper Club | 8931 County Hwy Y\, Sauk City\, WI 53583
UID:e.1184.22741
SEQUENCE:3
DTSTAMP:20260423T083222Z
URL:http://members.saukprairie.com/events/details/dueling-pianos-november-2019-22741
END:VEVENT

END:VCALENDAR
