BEGIN:VCALENDAR
VERSION:2.0
PRODID:-//ChamberMaster//Event Calendar 2.0//EN
METHOD:PUBLISH
X-PUBLISHED-TTL:P3D
REFRESH-INTERVAL:P3D
CALSCALE:GREGORIAN
BEGIN:VEVENT
DTSTART:20170710T180000Z
DTEND:20170710T190000Z
X-MICROSOFT-CDO-ALLDAYEVENT:FALSE
SUMMARY:Duke Otherwise Concert
DESCRIPTION:Duke Otherwise brings his clever lyrics and unique sounds to the library in this musical performance for children of all ages. Contact Beth at 643-8318 with questions.
X-ALT-DESC;FMTTYPE=text/html:Duke Otherwise brings his clever lyrics and unique sounds to the library in this musical performance for children of all ages. Contact Beth at 643-8318 with questions.
LOCATION:Ruth Culver Community Library 540 Water Street Prairie du Sac
UID:e.1184.11674
SEQUENCE:3
DTSTAMP:20260425T032827Z
URL:http://members.saukprairie.com/events/details/duke-otherwise-concert-11674
END:VEVENT

END:VCALENDAR
