BEGIN:VCALENDAR
VERSION:2.0
PRODID:-//ChamberMaster//Event Calendar 2.0//EN
METHOD:PUBLISH
X-PUBLISHED-TTL:P3D
REFRESH-INTERVAL:P3D
CALSCALE:GREGORIAN
BEGIN:VEVENT
DTSTART:20220115T140000Z
DTEND:20220115T170000Z
X-MICROSOFT-CDO-ALLDAYEVENT:FALSE
SUMMARY:Durward's Glen First Pancake Breakfast!
DESCRIPTION:Enjoy a delicious plate of pancakes\, eggs\, and sausage! $10 per plate.
X-ALT-DESC;FMTTYPE=text/html:<span style="font-family:calibri\,sans-serif\;"><span style="font-size:11.0pt\;">Enjoy a delicious plate of pancakes\, eggs\, and sausage! $10 per plate.</span></span>
LOCATION:Durwards Glen W11876 McLeish Rd. Baraboo\, WI 53913
UID:e.1184.26939
SEQUENCE:3
DTSTAMP:20260421T172935Z
URL:http://members.saukprairie.com/events/details/durward-s-glen-first-pancake-breakfast-26939
END:VEVENT

END:VCALENDAR
