BEGIN:VCALENDAR
VERSION:2.0
PRODID:-//ChamberMaster//Event Calendar 2.0//EN
METHOD:PUBLISH
X-PUBLISHED-TTL:P3D
REFRESH-INTERVAL:P3D
CALSCALE:GREGORIAN
BEGIN:VEVENT
DTSTART:20220423T130000Z
DTEND:20220423T160000Z
X-MICROSOFT-CDO-ALLDAYEVENT:FALSE
SUMMARY:Durward's Glen Pancake Breakfast!
DESCRIPTION:Do you like a good Pancake Breakfast?! You're in luck! We'll be hosting our pancake Breakfast at the Glen in our main dining hall from 8am-11am on April 23\, 2022! Breakfast will include Pancakes\, Eggs\, Sausage\, Coffee\, Milk/ Orange Juice! Special Non-alcoholic juice bar! Free Spring time Photo Backdrop! Adults are $10.00 per person\, Children $5.00. We look forward to seeing you!
X-ALT-DESC;FMTTYPE=text/html:<span style="font-size:16px\;"><span style="font-family:arial\;"><span style="color:black\;">Do you like a good Pancake Breakfast?! You&rsquo\;re in luck! We&rsquo\;ll be hosting our pancake Breakfast at the Glen in our main dining hall from 8am-11am on April 23\, 2022! Breakfast will include Pancakes\, Eggs\, Sausage\, Coffee\, Milk/ Orange Juice! Special Non-alcoholic juice bar! Free Spring time Photo Backdrop! Adults are $10.00 per person\, Children $5.00. We look forward to seeing you!</span></span></span>
LOCATION:Durwards Glen W11876 McLeish Rd. Baraboo\, WI 53913
UID:e.1184.27613
SEQUENCE:3
DTSTAMP:20260421T133710Z
URL:http://members.saukprairie.com/events/details/durward-s-glen-pancake-breakfast-27613
END:VEVENT

END:VCALENDAR
