BEGIN:VCALENDAR
VERSION:2.0
PRODID:-//ChamberMaster//Event Calendar 2.0//EN
METHOD:PUBLISH
X-PUBLISHED-TTL:P3D
REFRESH-INTERVAL:P3D
CALSCALE:GREGORIAN
BEGIN:VEVENT
DTSTART:20230215T200000Z
DTEND:20230215T210000Z
X-MICROSOFT-CDO-ALLDAYEVENT:FALSE
SUMMARY:Early Release Backyard Birding
DESCRIPTION:It's National Bird Feeding Month! Discover the hobby of bird feeding and birdwatching in this special Early Release Day event at the Ruth Culver Community Library. Learn to recognize various birds from your own backyards\, how to use binoculars\, and find out how you can be part of the National Audubon Society's Great Backyard Bird Count. Participants will also be able to make a small bird feeder to take home. For elementary grades K-5. Ages 6 and under must be accompanied by an adult. No registration required unless you want to receive an email reminder.
X-ALT-DESC;FMTTYPE=text/html:<span style="font-family:roboto\,sans-serif\; font-size:16px">It&rsquo\;s National Bird Feeding Month! Discover the hobby of bird feeding and birdwatching in this special Early Release Day event at the Ruth Culver Community Library. Learn to recognize various birds from your own backyards\, how to use binoculars\, and find out how you can be part of the National Audubon Society&rsquo\;s Great Backyard Bird Count. Participants will also be able to make a small bird feeder to take home. For elementary grades K-5. Ages 6 and under must be accompanied by an adult. No registration required unless you want to receive an email reminder.</span>
LOCATION:Ruth Culver Community Library 540 Water Street\, Prairie du Sac
UID:e.1184.29892
SEQUENCE:3
DTSTAMP:20260420T180306Z
URL:http://members.saukprairie.com/events/details/early-release-backyard-birding-29892
END:VEVENT

END:VCALENDAR
