BEGIN:VCALENDAR
VERSION:2.0
PRODID:-//ChamberMaster//Event Calendar 2.0//EN
METHOD:PUBLISH
X-PUBLISHED-TTL:P3D
REFRESH-INTERVAL:P3D
CALSCALE:GREGORIAN
BEGIN:VEVENT
DTSTART:20240918T193000Z
DTEND:20240918T210000Z
X-MICROSOFT-CDO-ALLDAYEVENT:FALSE
SUMMARY:Early Release: Squishie Painting
DESCRIPTION:School's out early so head to the library after school for a snack and to color a squishy or two to take home! Squishies are foam objects that you can squish in your hand. We'll have a variety of blank squishy characters to choose from and the supplies to color it from head to toe. For grades K-5.
X-ALT-DESC;FMTTYPE=text/html:School&#39\;s out early so head to the library after school for a snack and to color a squishy or two to take home! Squishies are foam objects that you can squish in your hand. We&#39\;ll have a variety of blank squishy characters to choose from and the supplies to color it from head to toe. For grades K-5.&nbsp\;
LOCATION:Ruth Culver Community Library - Prairie du Sac
UID:e.1184.33004
SEQUENCE:3
DTSTAMP:20260419T162525Z
URL:http://members.saukprairie.com/events/details/early-release-squishie-painting-33004
END:VEVENT

END:VCALENDAR
