BEGIN:VCALENDAR
VERSION:2.0
PRODID:-//ChamberMaster//Event Calendar 2.0//EN
METHOD:PUBLISH
X-PUBLISHED-TTL:P3D
REFRESH-INTERVAL:P3D
CALSCALE:GREGORIAN
BEGIN:VEVENT
DTSTART:20200115T203000Z
DTEND:20200115T213000Z
X-MICROSOFT-CDO-ALLDAYEVENT:FALSE
SUMMARY:Early Release Wednesday: Eagles!
DESCRIPTION:Meet an eagle expert and learn how to spot eagles at the Ruth Culver Community Library Wednesday\, January 15 at 2:30 p.m.  You'll also get to make an eagle craft and decorate a thermal mug to keep! Fill your mug with hot chocolate and proceed to the adjacent viewing area to spot eagles! This Early Release Wednesday event is appropriate for children in grades K-5. Thank you to the Ferry Bluff Eagle Council for sponsoring.
X-ALT-DESC;FMTTYPE=text/html:Meet an eagle expert and learn how to spot eagles at the Ruth Culver Community Library Wednesday\, January 15 at 2:30 p.m.&nbsp\; You&#39\;ll also get to make an eagle craft and decorate a thermal mug to keep! Fill your mug with hot chocolate and proceed to the adjacent viewing area to spot eagles! This Early Release Wednesday event is appropriate for children in grades K-5. Thank you to the Ferry Bluff Eagle Council for sponsoring.
LOCATION:Ruth Culver Community Library 540 Water Street\, Prairie du Sac
UID:e.1184.23915
SEQUENCE:3
DTSTAMP:20260423T053531Z
URL:http://members.saukprairie.com/events/details/early-release-wednesday-eagles-23915
END:VEVENT

END:VCALENDAR
