BEGIN:VCALENDAR
VERSION:2.0
PRODID:-//ChamberMaster//Event Calendar 2.0//EN
METHOD:PUBLISH
X-PUBLISHED-TTL:P3D
REFRESH-INTERVAL:P3D
CALSCALE:GREGORIAN
BEGIN:VEVENT
DTSTART:20190420T154500Z
DTEND:20190420T170000Z
X-MICROSOFT-CDO-ALLDAYEVENT:FALSE
SUMMARY:Easter Egg Hunt 2019
DESCRIPTION:Please join the Elite Real Estate team for some Easter Egg Hunt fun!\n\n\n\nThis egg-citing evert will include:\n\n	The Easter Bunny! Be sure to bring your phone to get pictures!\n	Bouncy House\n	Scoopie from Culver's\n	Sweet treats to snack on\n	John Joseph Coffee with hot chocolate and coffee\n	Adult Easter baskets (must be 21+ to enter drawing)\n\nHead over to our facebook page for updates on this event - https://www.facebook.com/eliterealestatewi/\n\n\n\nSponsors:\n\n	John Joseph Coffee\n	Culver's\n	Bank of Prairie du Sac\n	Tools of Marketing\n	The Village Pub\n	Waunakee Rental\n	Guild Mortgage\n\nDonations:\n\n\n	Prairie House Food & Spirits\n	Eagle Inn\n	The Riviera Bowl\n	Vintage Brewing Co.\n	The Press Box\n	The Gym Bar & Grill\n	The Village Pub\n\nQuestions or for more information contact:\n\nElite Real Estate \n\n370.7056\n\ninfo@eliterealestatewi.com
X-ALT-DESC;FMTTYPE=text/html:Please join the Elite Real Estate team for some Easter Egg Hunt fun!<br />\n<br />\nThis egg-citing evert will include:\n<ul>\n	<li>The Easter Bunny! Be sure to bring your phone to get pictures!</li>\n	<li>Bouncy House</li>\n	<li>Scoopie from Culver&#39\;s</li>\n	<li>Sweet treats to snack on</li>\n	<li>John Joseph Coffee with hot chocolate and coffee</li>\n	<li>Adult Easter baskets (must be 21+ to enter drawing)</li>\n</ul>\nHead over to our facebook page for updates on this event -&nbsp\;<a href="https://www.facebook.com/eliterealestatewi/">https://www.facebook.com/eliterealestatewi/</a><br />\n<br />\nSponsors:\n<ul>\n	<li>John Joseph Coffee</li>\n	<li>Culver&#39\;s</li>\n	<li>Bank of Prairie du Sac</li>\n	<li>Tools of Marketing</li>\n	<li>The Village Pub</li>\n	<li>Waunakee Rental</li>\n	<li>Guild Mortgage</li>\n</ul>\nDonations:\n\n<ul>\n	<li>Prairie House Food &amp\; Spirits</li>\n	<li>Eagle Inn</li>\n	<li>The Riviera Bowl</li>\n	<li>Vintage Brewing Co.</li>\n	<li>The Press Box</li>\n	<li>The Gym Bar &amp\; Grill</li>\n	<li>The Village Pub</li>\n</ul>\nQuestions or for more information contact:<br />\nElite Real Estate&nbsp\;<br />\n370.7056<br />\ninfo@eliterealestatewi.com
LOCATION:Meyer Oak Grove Park 780 Phillips Blvd. Sauk City
UID:e.1184.22172
SEQUENCE:3
DTSTAMP:20260423T200116Z
URL:http://members.saukprairie.com/events/details/easter-egg-hunt-2019-22172
END:VEVENT

END:VCALENDAR
