BEGIN:VCALENDAR
VERSION:2.0
PRODID:-//ChamberMaster//Event Calendar 2.0//EN
METHOD:PUBLISH
X-PUBLISHED-TTL:P3D
REFRESH-INTERVAL:P3D
CALSCALE:GREGORIAN
BEGIN:VEVENT
DTSTART:20190420T180000Z
DTEND:20190420T200000Z
X-MICROSOFT-CDO-ALLDAYEVENT:FALSE
SUMMARY:Easter Egg Hunt
DESCRIPTION:Knights of Columbus will be having our annual Easter Egg Hunt on Holy Saturday (April 20th) at 1pm at St Norberts in Roxbury.
X-ALT-DESC;FMTTYPE=text/html:Knights of Columbus will be having our annual Easter Egg Hunt on Holy Saturday (April 20th) at 1pm at St Norberts in Roxbury.
LOCATION:St. Norberts Roxbury
UID:e.1184.22102
SEQUENCE:3
DTSTAMP:20260423T200116Z
URL:http://members.saukprairie.com/events/details/easter-egg-hunt-22102
END:VEVENT

END:VCALENDAR
