BEGIN:VCALENDAR
VERSION:2.0
PRODID:-//ChamberMaster//Event Calendar 2.0//EN
METHOD:PUBLISH
X-PUBLISHED-TTL:P3D
REFRESH-INTERVAL:P3D
CALSCALE:GREGORIAN
BEGIN:VEVENT
DTSTART;VALUE=DATE:20240330
DTEND;VALUE=DATE:20240331
TRANSP:TRANSPARENT
X-MICROSOFT-CDO-ALLDAYEVENT:TRUE
SUMMARY:Easter Egg Hunt @ The Shop
DESCRIPTION:Our first Easter egg hunt in the Valley!\n\n\n\nWelcome ages 10 years and younger. We will have the Easter Bunny and special prizes for those who find the golden eggs. Stay tuned for updates...
X-ALT-DESC;FMTTYPE=text/html:Our first Easter egg hunt in the Valley!<br />\n<br />\nWelcome ages 10 years and younger. We will have the Easter Bunny and special prizes for those who find the golden eggs. Stay tuned for updates...
LOCATION:The Shop
UID:e.1184.32307
SEQUENCE:3
DTSTAMP:20260419T233128Z
URL:http://members.saukprairie.com/events/details/easter-egg-hunt-the-shop-32307
END:VEVENT

END:VCALENDAR
