BEGIN:VCALENDAR
VERSION:2.0
PRODID:-//ChamberMaster//Event Calendar 2.0//EN
METHOD:PUBLISH
X-PUBLISHED-TTL:P3D
REFRESH-INTERVAL:P3D
CALSCALE:GREGORIAN
BEGIN:VEVENT
DTSTART:20191025T230000Z
DTEND:20191026T020000Z
X-MICROSOFT-CDO-ALLDAYEVENT:FALSE
SUMMARY:Eat Drink & Be Scary: Beer Dinner
DESCRIPTION:Join us for a Halloween themed beer dinner! Enjoy a cocktail hour with light hors'devours & one drink included\, a three course pairing of chef inspired dishes and Vintage Brewing Co. Craft Beer\, as well as an expert guided explination of each pairing. Please feel free to dress in theme!
X-ALT-DESC;FMTTYPE=text/html:<span style="color: rgb(29\, 33\, 41)\; font-family: Helvetica\, Arial\, sans-serif\; font-size: 14px\; white-space: pre-wrap\;">Join us for a Halloween themed beer dinner! Enjoy a cocktail hour with light hors&#39\;devours &amp\; one drink included\, a three course pairing of chef inspired dishes and Vintage Brewing Co. Craft Beer\, as well as an expert guided explination of each pairing. Please feel free to dress in theme!</span>
LOCATION:Vintage Brewing Co. 600 Water St. Sauk City
UID:e.1184.23569
SEQUENCE:3
DTSTAMP:20260423T095342Z
URL:http://members.saukprairie.com/events/details/eat-drink-be-scary-beer-dinner-23569
END:VEVENT

END:VCALENDAR
