BEGIN:VCALENDAR
VERSION:2.0
PRODID:-//ChamberMaster//Event Calendar 2.0//EN
METHOD:PUBLISH
X-PUBLISHED-TTL:P3D
REFRESH-INTERVAL:P3D
CALSCALE:GREGORIAN
BEGIN:VEVENT
DTSTART:20160613T180000Z
DTEND:20160613T190000Z
X-MICROSOFT-CDO-ALLDAYEVENT:FALSE
SUMMARY:Eat Like an Astronaut
DESCRIPTION:What food do you eat in space and how do you keep your lunch tray from floating away? Kids will design their own "food containment system\," astronaut food included! A representative from UW Space Place will lead this event for children age 6 and up. Contact Beth at 643-8318 with questions.
X-ALT-DESC;FMTTYPE=text/html:What food do you eat in space and how do you keep your lunch tray from floating away? Kids will design their own &quot\;food containment system\,&quot\; astronaut food included! A representative from UW Space Place will lead this event for children age 6 and up. Contact Beth at 643-8318 with questions.
LOCATION:Ruth Culver Community Library 540 Water Street\, Prairie du Sac
UID:e.1184.8495
SEQUENCE:3
DTSTAMP:20260426T003737Z
URL:http://members.saukprairie.com/events/details/eat-like-an-astronaut-06-13-2016-8495
END:VEVENT

END:VCALENDAR
