BEGIN:VCALENDAR
VERSION:2.0
PRODID:-//ChamberMaster//Event Calendar 2.0//EN
METHOD:PUBLISH
X-PUBLISHED-TTL:P3D
REFRESH-INTERVAL:P3D
CALSCALE:GREGORIAN
BEGIN:VEVENT
DTSTART:20200305T003000Z
DTEND:20200305T030000Z
X-MICROSOFT-CDO-ALLDAYEVENT:FALSE
SUMMARY:Ecological Responses to Climate Change: Lessons from the Past
DESCRIPTION:Professor Jack Williams\, UW-Madison Dept. of Geography and Center for Climate Research\n\n \n\nHow do species adapt to changing climates and how can we help them?  Some of our best examples come from the end of the last ice age\, when the world warmed by 5-10F.  Jack will review how he studies past climates and ecosystems\, what has been learned\, and insights for today. \n\n\n\nThis is a re-schedule of the event February 12.
X-ALT-DESC;FMTTYPE=text/html:<strong><span style="font-size:12.0pt">Professor Jack Williams\, </span></strong><span style="font-size:12.0pt">UW-Madison Dept. of Geography and Center for Climate Research</span><br />\n&nbsp\;<br />\n<em><span style="font-family:calibri\,sans-serif">How do species adapt to changing climates and how can we help them?&nbsp\; Some of our best examples come from the end of the last ice age\, when the world warmed by 5-10F.&nbsp\; Jack will review how he studies past climates and ecosystems\, what has been learned\, and insights for today.&nbsp\;</span></em><br />\n<br />\n<span style="font-family:arial\,helvetica\,sans-serif">This is a re-schedule of the event February 12.</span>
LOCATION:All lectures will be held at UW Platteville Baraboo/Sauk County 1006 Connie Road\, Baraboo Doors open at 6:30 pm for cookies and coffee\, talks start at 7:00pm
UID:e.1184.24011
SEQUENCE:3
DTSTAMP:20260423T025220Z
URL:http://members.saukprairie.com/events/details/ecological-responses-to-climate-change-lessons-from-the-past-24011
END:VEVENT

END:VCALENDAR
