BEGIN:VCALENDAR
VERSION:2.0
PRODID:-//ChamberMaster//Event Calendar 2.0//EN
METHOD:PUBLISH
X-PUBLISHED-TTL:P3D
REFRESH-INTERVAL:P3D
CALSCALE:GREGORIAN
BEGIN:VEVENT
DTSTART:20200320T173000Z
DTEND:20200320T183000Z
X-MICROSOFT-CDO-ALLDAYEVENT:FALSE
SUMMARY:CANCELED: Economic Development in Sauk County
DESCRIPTION:Shared Spirit Friday Forum Series\n\n\n\nEd White\, Executive Director\, Sauk County Development Corporation discusses Economic Development in Sauk County \n\n\n\nFriday\, March 20\, 12:30 pm\n\nSavides Library on the UW Platteville Baraboo Sauk County Campus
X-ALT-DESC;FMTTYPE=text/html:<span style="font-size:14px"><strong>Shared Spirit Friday Forum Series</strong></span><br />\n<br />\nEd White\, Executive Director\, Sauk County Development Corporation discusses&nbsp\;Economic Development in Sauk County&nbsp\;<br />\n<br />\nFriday\, March 20\, 12:30 pm<br />\nSavides Library on the UW Platteville Baraboo Sauk County Campus
LOCATION:Savides Library on the UW Platteville Baraboo Sauk County Campus
UID:e.1184.24128
SEQUENCE:3
DTSTAMP:20260423T025118Z
URL:http://members.saukprairie.com/events/details/economic-development-in-sauk-county-24128
END:VEVENT

END:VCALENDAR
