BEGIN:VCALENDAR
VERSION:2.0
PRODID:-//ChamberMaster//Event Calendar 2.0//EN
METHOD:PUBLISH
X-PUBLISHED-TTL:P3D
REFRESH-INTERVAL:P3D
CALSCALE:GREGORIAN
BEGIN:VEVENT
DTSTART:20180202T020000Z
DTEND:20180202T040000Z
X-MICROSOFT-CDO-ALLDAYEVENT:FALSE
SUMMARY:Emerald Grove at Vintage Brewing Co. Sauk Prairie
DESCRIPTION:Hailing from Madison WI\, the land of cheese and beer\, Emerald Grove is a 4-piece Switchblade-Folk group with Bluegrass and Americana influences. Trampled By Turtles meets CSNY\, with a kick of Counting Crows.
X-ALT-DESC;FMTTYPE=text/html:<span style="color: rgb(75\, 79\, 86)\; font-family: Helvetica\, Arial\, sans-serif\; font-size: 14px\;">Hailing from Madison WI\, the land of cheese and beer\, Emerald Grove is a 4-piece Switchblade-Folk group with Bluegrass and Americana influences. Trampled By Turtles meets CSNY\, with a kick of Counting Crows.</span>
LOCATION:Vintage Brewing Co. Sauk Prairie 600 Water Street Sauk City\, WI 53583
UID:e.1184.14670
SEQUENCE:3
DTSTAMP:20260424T162107Z
URL:http://members.saukprairie.com/events/details/emerald-grove-at-vintage-brewing-co-sauk-prairie-14670
END:VEVENT

END:VCALENDAR
