BEGIN:VCALENDAR
VERSION:2.0
PRODID:-//ChamberMaster//Event Calendar 2.0//EN
METHOD:PUBLISH
X-PUBLISHED-TTL:P3D
REFRESH-INTERVAL:P3D
CALSCALE:GREGORIAN
BEGIN:VEVENT
DTSTART:20220826T000000Z
DTEND:20220826T020000Z
X-MICROSOFT-CDO-ALLDAYEVENT:FALSE
SUMMARY:Emerald Grove at Vintage Brewing Co. Sauk Prairie
DESCRIPTION:Hailing from Madison WI\, the land of cheese and beer\, Emerald Grove is a 4-piece Switchblade-Folk group with Bluegrass and Americana influences. Trampled By Turtles meets CSNY\, with a kick of Counting Crows.
X-ALT-DESC;FMTTYPE=text/html:<div class="_63eu" style="box-sizing: border-box\; font-size: 14px\; max-height: 260px\; overflow: hidden\; padding: 12px\; overflow-wrap: break-word\; font-family: Helvetica\, Arial\, sans-serif\; color: rgb(29\, 33\, 41)\;">\n<div class="_63ew" data-testid="event-permalink-details" style="font-family: inherit\;"><span style="color: rgb(5\, 5\, 5)\; font-family: &quot\;Segoe UI Historic&quot\;\, &quot\;Segoe UI&quot\;\, Helvetica\, Arial\, sans-serif\; font-size: 15px\;">Hailing from Madison WI\, the land of cheese and beer\, Emerald Grove is a 4-piece Switchblade-Folk group with Bluegrass and Americana influences. Trampled By Turtles meets CSNY\, with a kick of Counting Crows.</span></div>\n\n<div>&nbsp\;</div>\n</div>\n
LOCATION:Vintage Brewing Co. 600 Water St. Sauk City
UID:e.1184.28662
SEQUENCE:3
DTSTAMP:20260421T073811Z
URL:http://members.saukprairie.com/events/details/emerald-grove-at-vintage-brewing-co-sauk-prairie-28662
END:VEVENT

END:VCALENDAR
