BEGIN:VCALENDAR
VERSION:2.0
PRODID:-//ChamberMaster//Event Calendar 2.0//EN
METHOD:PUBLISH
X-PUBLISHED-TTL:P3D
REFRESH-INTERVAL:P3D
CALSCALE:GREGORIAN
BEGIN:VEVENT
DTSTART:20230805T150000Z
DTEND:20230805T200000Z
X-MICROSOFT-CDO-ALLDAYEVENT:FALSE
SUMMARY:Emotional Abstractions through Color Harmony with Claire Kellesvig
DESCRIPTION:590 Water St\, Prairie du Sac\, WI 53578\n\nSat\, Aug 5\, 2023 | 10 am   3 pm | Deadline to register: July 20\n\n$100 + $20 kit fee/person\n\nAges 14+\n\nLearn about painting emotion through color harmony by creating integrated color palettes!  \n\nIntegrated palettes (shown below) allow students with limited knowledge of color mixing to create colors that look and feel cohesive together. In this class\, students will mix their own palettes of color\, and then paint a simple\, abstract composition based on the emotional quality of that palette. \n\nThis is a color theory- painting hybrid class using acrylic paints\, canvas pad ( two sheets per student)\, brushes\, a palette\, slow-dry acrylic medium\, and paper towels.  \n\nAll materials are provided with registration.
X-ALT-DESC;FMTTYPE=text/html:<h4><strong>590 Water St\, Prairie du Sac\, WI 53578</strong></h4>\n\n<p><strong>Sat\, Aug 5\, 2023 | 10 am &ndash\; 3 pm</strong>&nbsp\;| Deadline to register: July 20</p>\n\n<p><strong>$100 + $20 kit fee/person</strong></p>\n\n<p><strong>Ages 14+</strong></p>\n\n<p>Learn about painting emotion through color harmony by creating integrated color palettes!&nbsp\;&nbsp\;</p>\n\n<p>Integrated palettes (shown below) allow students with limited knowledge of color mixing to create colors that look and feel cohesive together. In this class\, students will mix their own palettes of color\, and then paint a simple\, abstract composition based on the emotional quality of that palette.&nbsp\;</p>\n\n<p>This is a color theory- painting hybrid class using acrylic paints\, canvas pad ( two sheets per student)\, brushes\, a palette\, slow-dry acrylic medium\, and paper towels.&nbsp\;&nbsp\;</p>\n\n<p><strong>All materials are provided with registration.</strong></p>\n\n<div>&nbsp\;</div>\n
LOCATION:River Arts on Water Gallery. 590 Water Street\, Prairie du Sac\, WI\, 53578
UID:e.1184.30746
SEQUENCE:3
DTSTAMP:20260420T102457Z
URL:http://members.saukprairie.com/events/details/emotional-abstractions-through-color-harmony-with-claire-kellesvig-30746
END:VEVENT

END:VCALENDAR
