BEGIN:VCALENDAR
VERSION:2.0
PRODID:-//ChamberMaster//Event Calendar 2.0//EN
METHOD:PUBLISH
X-PUBLISHED-TTL:P3D
REFRESH-INTERVAL:P3D
CALSCALE:GREGORIAN
BEGIN:VEVENT
DTSTART;VALUE=DATE:20160726
DTEND;VALUE=DATE:20160727
TRANSP:TRANSPARENT
X-MICROSOFT-CDO-ALLDAYEVENT:TRUE
SUMMARY:Employee Engagement & Recruitment
DESCRIPTION:The Chamber WANTS to hear from YOU!Join us for a discussion on Employee Engagement & Recruitment. Two sessions will be offered\, attend the one that is right for you:\n\n\n\nTuesday\, July 26th\n\nSchwarz Insurance\n\n\n\nSession 1:  11:00   12:20 pm -  Attention ALL Human Resource Directors (designed for businesses with 20 or more employees)\n\n\n\n-OR-\n\n\n\nSession 2:  12:30   2:00 pm   Designed for Businesses with less than 20  employees\n\n\n\nBoth sessions will utilize small group work\, sharing information & best practices to help you recruit & retain employees.  \n\n\n\nRSVP by July 21st to spacc@saukprairie.com - Pizza & Drinks will be provided
X-ALT-DESC;FMTTYPE=text/html:The Chamber WANTS to hear from YOU!Join us for a discussion on Employee Engagement&nbsp\;&amp\; Recruitment. Two sessions will be offered\,&nbsp\;attend the one that is right for you:<br />\n<br />\nTuesday\, July 26th<br />\nSchwarz Insurance<br />\n<br />\nSession 1: &nbsp\;11:00 &ndash\; 12:20 pm - &nbsp\;Attention ALL Human Resource Directors (designed for businesses with 20 or more employees)<br />\n<br />\n-OR-<br />\n<br />\nSession 2: &nbsp\;12:30 &ndash\; 2:00 pm &ndash\; Designed for Businesses with less than 20 &nbsp\;employees<br />\n<br />\nBoth sessions will utilize small group work\, sharing information&nbsp\;&amp\; best practices to help you recruit &amp\; retain employees. &nbsp\;<br />\n<br />\nRSVP by July 21st to spacc@saukprairie.com - Pizza &amp\; Drinks will be provided
LOCATION:Schwarz Insurance
UID:e.1184.8576
SEQUENCE:3
DTSTAMP:20260425T224503Z
URL:http://members.saukprairie.com/events/details/employee-engagement-recruitment-07-26-2016-8576
END:VEVENT

END:VCALENDAR
