BEGIN:VCALENDAR
VERSION:2.0
PRODID:-//ChamberMaster//Event Calendar 2.0//EN
METHOD:PUBLISH
X-PUBLISHED-TTL:P3D
REFRESH-INTERVAL:P3D
CALSCALE:GREGORIAN
BEGIN:VEVENT
DTSTART:20200408T183000Z
DTEND:20200408T193000Z
X-MICROSOFT-CDO-ALLDAYEVENT:FALSE
SUMMARY:Employment Cost Containment Methods
DESCRIPTION:The COVID-19 Pandemic is transforming the world of work and having massive impacts on business operations.  Many organizations are grappling with significant customer/revenue reductions that may lead to difficult decisions ahead. Cost containment methods are crucial right now.  Join Summer Rector\, VP of HR Consulting at The QTI Group\, while she shares employment cost containment methods as employers work to balance supporting employees\, while sustaining business operations during these uncertain times.\n\n\n\nRegister here.\n\n\n\nBrought to you by the Sauk Prairie Chamber of Commerce\, Reedsburg Chamber of Commerce\, Baraboo Chamber of Commerce and Spring Green Chamber of Commerce.
X-ALT-DESC;FMTTYPE=text/html:<span style="color: rgb(35\, 35\, 51)\; font-family: Lato\, Helvetica\, Arial\; font-size: 14px\;">The COVID-19 Pandemic is transforming the world of work and having massive impacts on business operations.&nbsp\; Many organizations are grappling with significant customer/revenue reductions that may lead to difficult decisions ahead. Cost containment methods are crucial right now.&nbsp\; Join Summer Rector\, VP of HR Consulting at The QTI Group\, while she shares employment cost containment methods as employers work to balance supporting employees\, while sustaining business operations during these uncertain times.<br />\n<br />\n<strong><a href="https://zoom.us/webinar/register/WN_CvubAYmaTtqgCvMQT7HoSA">Register here.</a></strong></span><br style="box-sizing: border-box\; color: rgb(35\, 35\, 51)\; font-family: Lato\, Helvetica\, Arial\; font-size: 14px\;" />\n<br style="box-sizing: border-box\; color: rgb(35\, 35\, 51)\; font-family: Lato\, Helvetica\, Arial\; font-size: 14px\;" />\n<span style="color: rgb(35\, 35\, 51)\; font-family: Lato\, Helvetica\, Arial\; font-size: 14px\;">Brought to you by the Sauk Prairie Chamber of Commerce\, Reedsburg Chamber of Commerce\, Baraboo Chamber of Commerce and Spring Green Chamber of Commerce.</span>
LOCATION:Virtual Meeting
UID:e.1184.24361
SEQUENCE:3
DTSTAMP:20260423T011811Z
URL:http://members.saukprairie.com/events/details/employment-cost-containment-methods-24361
END:VEVENT

END:VCALENDAR
