BEGIN:VCALENDAR
VERSION:2.0
PRODID:-//ChamberMaster//Event Calendar 2.0//EN
METHOD:PUBLISH
X-PUBLISHED-TTL:P3D
REFRESH-INTERVAL:P3D
CALSCALE:GREGORIAN
BEGIN:VEVENT
DTSTART:20200310T210000Z
DTEND:20200311T000000Z
X-MICROSOFT-CDO-ALLDAYEVENT:FALSE
SUMMARY:Empty Bowls: Sauk Prairie
DESCRIPTION:Tuesday\, March 10\, 2020 | 4-7pm\n\nRiver Arts Center Gallery\, 105 9th St\, Prairie du Sac\, WI\n\n\n\nEmpty Bowls is a grassroots movement by artists and crafts people in cities around the world to care for and feed the hungry in their communities. \n\n\n\nHow it works: professional artists\, students\, and businesses donate handmade bowls\, and local restaurants donate food (most often soup and bread). Patrons come in\, select a bowl to purchase\, and fill it with soup. All proceeds benefit the food-based charity of the community. The idea is that as you empty your bowl that night\, you are also filling others'. \n\n\n\n100% of the proceeds from this event will be donated to the Sauk Prairie Area Food Pantry!\n\n\n\nYou'll be able to peruse OVER 100 handmade bowls by ceramic artists and enthusiasts from across the state\, fill one with soup\, and know that your meal makes a difference for our community.
X-ALT-DESC;FMTTYPE=text/html:<strong><span style="color:rgb(29\, 33\, 41)\; font-family:system-ui\,-apple-system\,system-ui\,.sfnstext-regular\,sans-serif\; font-size:14px">Tuesday\, March 10\, 2020 | 4-7pm</span><br />\n<span style="color:rgb(29\, 33\, 41)\; font-family:system-ui\,-apple-system\,system-ui\,.sfnstext-regular\,sans-serif\; font-size:14px">River Arts Center Gallery\, 105 9th St\, Prairie du Sac\, WI</span></strong><br />\n<br />\n<span style="color:rgb(29\, 33\, 41)\; font-family:system-ui\,-apple-system\,system-ui\,.sfnstext-regular\,sans-serif\; font-size:14px">Empty Bowls is a grassroots movement by artists and crafts people in cities around the world to care for and feed the hungry in their communities. </span><br />\n<br />\n<span style="color:rgb(29\, 33\, 41)\; font-family:system-ui\,-apple-system\,system-ui\,.sfnstext-regular\,sans-serif\; font-size:14px">How it works: professional artists\, students\, and businesses donate handmade bowls\, and local restaurants donate food (most often soup and bread). Patrons come in\, select a bowl to purchase\, and fill it with soup. All proceeds benefit the food-based charity of the community. The idea is that as you empty your bowl that night\, you are also filling others&#39\;. </span><br />\n<br />\n<span style="color:rgb(29\, 33\, 41)\; font-family:system-ui\,-apple-system\,system-ui\,.sfnstext-regular\,sans-serif\; font-size:14px"><span style="background-color:#FFFF00">100% of the proceeds from this event will be donated to the Sauk Prairie Area Food Pantry!</span></span><br />\n<br />\n<span style="color:rgb(29\, 33\, 41)\; font-family:system-ui\,-apple-system\,system-ui\,.sfnstext-regular\,sans-serif\; font-size:14px">You&#39\;ll be able to peruse OVER 100 handmade bowls by ceramic artists and enthusiasts from across the state\, fill one with soup\, and know that your meal makes a difference for our community.</span>
LOCATION:River Arts Center Gallery 105 9th St\, Prairie du Sac\, WI 53578
UID:e.1184.24046
SEQUENCE:3
DTSTAMP:20260423T025118Z
URL:http://members.saukprairie.com/events/details/empty-bowls-sauk-prairie-24046
END:VEVENT

END:VCALENDAR
