BEGIN:VCALENDAR
VERSION:2.0
PRODID:-//ChamberMaster//Event Calendar 2.0//EN
METHOD:PUBLISH
X-PUBLISHED-TTL:P3D
REFRESH-INTERVAL:P3D
CALSCALE:GREGORIAN
BEGIN:VEVENT
DTSTART:20201014T140000Z
DTEND:20201028T160000Z
X-MICROSOFT-CDO-ALLDAYEVENT:FALSE
SUMMARY:eParenting Workshops
DESCRIPTION:Oct 14\, 2020 09:00 AM - Little Ones Little Ones curriculum highlights how digital media can be used to enhance parenting skills and support kids' growth and development. Oct 21\, 2020 09:00 AM - High Tech Kids High-Tech Kids was created as a 2 hour face-to-face workshop developed for parents of youth 9-14. Oct 28\, 2020 09:00 AM - Co-Parenting Co-Parenting is developed for divorced or separated parents of infants to teenagers.
X-ALT-DESC;FMTTYPE=text/html:Oct 14\, 2020 09:00 AM - Little Ones Little Ones curriculum highlights how digital media can be used to enhance parenting skills and support kids&rsquo\; growth and development. Oct 21\, 2020 09:00 AM - High Tech Kids High-Tech Kids was created as a 2 hour face-to-face workshop developed for parents of youth 9-14. Oct 28\, 2020 09:00 AM - Co-Parenting Co-Parenting is developed for divorced or separated parents of infants to teenagers.
LOCATION:Virtual (Online via Zoom)
UID:e.1184.26096
SEQUENCE:3
DTSTAMP:20260422T151925Z
URL:http://members.saukprairie.com/events/details/eparenting-workshops-26096
END:VEVENT

END:VCALENDAR
