BEGIN:VCALENDAR
VERSION:2.0
PRODID:-//ChamberMaster//Event Calendar 2.0//EN
METHOD:PUBLISH
X-PUBLISHED-TTL:P3D
REFRESH-INTERVAL:P3D
CALSCALE:GREGORIAN
BEGIN:VEVENT
DTSTART:20161021T000000Z
DTEND:20161021T020000Z
X-MICROSOFT-CDO-ALLDAYEVENT:FALSE
SUMMARY:Erasmus at the Woodshed Ale House
DESCRIPTION:Join the Woodshed Ale House while Erasmus preforms - Amazing vocals by Jodie Johnson and strings and vocals with Chris Byers! Love our local musicians!.
X-ALT-DESC;FMTTYPE=text/html:<span style="font-family:arial\;"><span style="font-size:14px\;">Join the Woodshed Ale House while Erasmus preforms -&nbsp\;<span style="color: rgb(75\, 79\, 86)\;">Amazing vocals by Jodie Johnson and strings and vocals with Chris Byers! Love our local musicians!.</span></span></span>
LOCATION:Woodshed Ale House 101 Jackson Street Sauk City\, WI 53583
UID:e.1184.9409
SEQUENCE:3
DTSTAMP:20260425T174319Z
URL:http://members.saukprairie.com/events/details/erasmus-at-the-woodshed-ale-house-9409
END:VEVENT

END:VCALENDAR
