BEGIN:VCALENDAR
VERSION:2.0
PRODID:-//ChamberMaster//Event Calendar 2.0//EN
METHOD:PUBLISH
X-PUBLISHED-TTL:P3D
REFRESH-INTERVAL:P3D
CALSCALE:GREGORIAN
BEGIN:VEVENT
DTSTART:20221210T010000Z
DTEND:20221210T030000Z
X-MICROSOFT-CDO-ALLDAYEVENT:FALSE
SUMMARY:Erin Krebs Duo: A Jazzy Holiday
DESCRIPTION:In 2016\, Jazziz Magazine wrote that Erin Krebs "may be a best-kept secret of her native Wisconsin". It seems the word is out\, as this dynamic performer is well on her way to becoming one of Wisconsin's premier and most treasured vocalists. Ranging from sultry jazz stylings to bebop scat to belting out the Blues\, her performances exude confidence and a passion for life that audiences instantly recognize as genuine and heartfelt. Erin will be joined by music veteran Jeff Johnston.
X-ALT-DESC;FMTTYPE=text/html:<span style="color:rgb(0\, 0\, 0)\; font-family:arial\,helvetica\,sans-serif">In 2016\,&nbsp\;</span><em>Jazziz Magazine&nbsp\;</em><span style="color:rgb(0\, 0\, 0)\; font-family:arial\,helvetica\,sans-serif">wrote that Erin Krebs &ldquo\;may be a best-kept secret of her native Wisconsin&rdquo\;. It seems the word is out\, as this dynamic performer is well on her way to becoming one of Wisconsin&rsquo\;s premier and most treasured vocalists. Ranging from sultry jazz stylings to bebop scat to belting out the Blues\, her performances exude confidence and a passion for life that audiences instantly recognize as genuine and heartfelt. Erin will be joined by music veteran Jeff Johnston.</span>
LOCATION:590 Water St\, Prairie Du Sac\, WI 53578
UID:e.1184.28206
SEQUENCE:3
DTSTAMP:20260421T020801Z
URL:http://members.saukprairie.com/events/details/erin-krebs-duo-a-jazzy-holiday-28206
END:VEVENT

END:VCALENDAR
