BEGIN:VCALENDAR
VERSION:2.0
PRODID:-//ChamberMaster//Event Calendar 2.0//EN
METHOD:PUBLISH
X-PUBLISHED-TTL:P3D
REFRESH-INTERVAL:P3D
CALSCALE:GREGORIAN
BEGIN:VEVENT
DTSTART;VALUE=DATE:20240302
DTEND;VALUE=DATE:20240304
TRANSP:TRANSPARENT
X-MICROSOFT-CDO-ALLDAYEVENT:TRUE
SUMMARY:Excessive Surfaces: Textile Embellishments with Emily Popp
DESCRIPTION:Do you want to add some pizazz to a well-loved garment?  Or liven up your wardrobe?  Well\, you're in luck! This class explores multiple forms of handmade embellishments for textiles and clothing items. Many embellishment methods can be done on fabric or an item of clothing (tops\, jeans\, shoes) or a purse or bag\, and we will explore all of these options together with various materials!  Instructor Emily Popp with help you complete a project over the course of this weekend-long class.\n\nTechniques including:\n\n\n	running stitch embroidery\n	adding ribbon\, lace\, ruffles\n	attaching beads\, patches\n	feathers\n	fringe \n	beaded fringe \n	sequins\n	puffy paint dots and lines \n	braids \n	yarn
X-ALT-DESC;FMTTYPE=text/html:<p>Do you want to add some pizazz to a well-loved garment?&nbsp\; Or liven up your wardrobe?&nbsp\; Well\, you&rsquo\;re in luck! This class explores multiple forms of handmade embellishments for textiles and clothing items. Many embellishment methods can be done on fabric or an item of clothing (tops\, jeans\, shoes) or a purse or bag\, and we will explore all of these options together with various materials!&nbsp\; Instructor Emily Popp with help you complete a project over the course of this weekend-long class.</p>\n\n<p>Techniques including:</p>\n\n<ul>\n	<li>running stitch embroidery</li>\n	<li>adding ribbon\, lace\, ruffles</li>\n	<li>attaching beads\, patches</li>\n	<li>feathers</li>\n	<li>fringe&nbsp\;</li>\n	<li>beaded fringe&nbsp\;</li>\n	<li>sequins</li>\n	<li>puffy paint dots and lines&nbsp\;</li>\n	<li>braids&nbsp\;</li>\n	<li>yarn</li>\n</ul>\n
LOCATION:River Arts Gallery on Water
UID:e.1184.31492
SEQUENCE:3
DTSTAMP:20260419T231911Z
URL:http://members.saukprairie.com/events/details/excessive-surfaces-textile-embellishments-with-emily-popp-31492
END:VEVENT

END:VCALENDAR
