BEGIN:VCALENDAR
VERSION:2.0
PRODID:-//ChamberMaster//Event Calendar 2.0//EN
METHOD:PUBLISH
X-PUBLISHED-TTL:P3D
REFRESH-INTERVAL:P3D
CALSCALE:GREGORIAN
BEGIN:VEVENT
DTSTART:20170324T170000Z
DTEND:20170324T210000Z
X-MICROSOFT-CDO-ALLDAYEVENT:FALSE
SUMMARY:Experience Madison College - Health Education Programs
DESCRIPTION:Experience Madison College - Truax Campus\, Madison\n\n \n\nMadison College hosts several open houses to let you experience a day as a college student. You'll meet instructors and students\, participate in hands-on class activities and take a campus tour that highlights your interests.\n\nAdvisors\, staff and instructors are available to answer your questions about applying to and starting college. Plus\, your admission application fee is waived when you attend an Experience event.\n\nFuture students\, their parents/guardians and mentors are all welcome.\n\n\n\nLarge groups should contact our recruiters (link sends e-mail) to set up a customized group tour.\n\n \n\nQuestions about Experience Madison College? Email us (link sends e-mail) or call (608) 243-4248.\n\n \n\nhttps://madisoncollege.edu/experience-madison-college
X-ALT-DESC;FMTTYPE=text/html:<span style="font-size:14pt"><span style="color:rgb(31\, 78\, 121)"><span style="font-family:calibri">Experience Madison College - Truax Campus\, Madison</span></span></span><br />\n&nbsp\;<br />\n<span style="font-size:10.5pt"><span style="font-family:inherit\,serif"><span style="color:black">Madison College hosts several open houses to let you experience a day as a college student. You&rsquo\;ll meet instructors and students\, participate in hands-on class activities and take a campus tour that highlights your interests.</span></span></span><br />\n<span style="font-size:10.5pt"><span style="font-family:inherit\,serif"><span style="color:black">Advisors\, staff and instructors are available to answer your questions about applying to and starting college. Plus\, your admission application fee is waived when you attend an Experience event.</span></span></span><br />\n<span style="font-size:10.5pt"><span style="font-family:inherit\,serif"><span style="color:black">Future students\, their parents/guardians and mentors are all welcome.<br />\n<br />\nLarge groups should </span></span></span><span style="font-size:10.5pt"><span style="font-family:inherit\,serif"><span style="color:rgb(31\, 78\, 121)"><a href="mailto:getstarted@madisoncollege.edu?subject=customized%20group%20tour"><span style="color:rgb(31\, 78\, 121)">contact our recruiters</span></a></span><a href="mailto:getstarted@madisoncollege.edu?subject=customized%20group%20tour"><span style="color:rgb(31\, 78\, 121)"> (link sends e-mail)</span></a></span></span><span style="font-size:10.5pt"><span style="font-family:inherit\,serif"><span style="color:black"> to set up a customized </span></span></span><span style="font-size:10.5pt"><span style="font-family:inherit\,serif"><span style="color:rgb(31\, 78\, 121)"><a href="https://madisoncollege.edu/visit"><span style="color:rgb(31\, 78\, 121)">group tour</span></a></span>.</span></span><br />\n&nbsp\;<br />\n<span style="font-size:12pt"><span style="font-family:mulibold"><span style="color:rgb(0\, 45\, 98)">Questions about Experience Madison College? <a href="mailto:experience@madisoncollege.edu?subject=EMC%20message%20from%20website"><span style="color:rgb(0\, 45\, 98)">Email us (link sends e-mail)</span></a> or call (608) 243-4248.</span></span></span><br />\n&nbsp\;<br />\n<span style="color:rgb(31\, 78\, 121)"><a href="https://madisoncollege.edu/experience-madison-college"><span style="color:rgb(31\, 78\, 121)"><span style="font-size:medium"><span style="font-family:calibri">https://madisoncollege.edu/experience-madison-college</span></span></span></a></span><br />\n&nbsp\;<br />\n&nbsp\;
LOCATION:
UID:e.1184.9784
SEQUENCE:3
DTSTAMP:20260425T110028Z
URL:http://members.saukprairie.com/events/details/experience-madison-college-health-education-programs-9784
END:VEVENT

END:VCALENDAR
