BEGIN:VCALENDAR
VERSION:2.0
PRODID:-//ChamberMaster//Event Calendar 2.0//EN
METHOD:PUBLISH
X-PUBLISHED-TTL:P3D
REFRESH-INTERVAL:P3D
CALSCALE:GREGORIAN
BEGIN:VEVENT
DTSTART:20210115T020000Z
DTEND:20210129T003000Z
X-MICROSOFT-CDO-ALLDAYEVENT:FALSE
SUMMARY:Explore a Career in Real Estate
DESCRIPTION:Have you ever thought about getting into real estate\, but didn't know how to get started? This is your chance to learn about a real estate career and what it takes to become a real estate agent.\n\n \n\n\n\nWe are offering 2 different sessions\; January 14th and January 28th. This is a FREE event and anyone can attend. Visit our Facebook event page to sign up or the links below for the date that works best for you.\n\n \n\n\n\nTopics will include:\n\n  Overall career of real estate agent outlook\n\n  How agents are paid as independent contractors\n\n  Expenses an agent is responsible for\n\n  Path of getting licensed and cost to start\n\n  Myths of a real estate career\n\n  And so much more\n\n\n\nJanuary 14th registration link: https://bit.ly/2JrgcL9\n\nJanuary 28th registration link: https://bit.ly/34PXCEV\n\n \n\n\n\nIf you're looking to start a career in real estate\, we can help. We offer the WRA prelicensing course at a discounted rate. Head to our website to sign up.   https://www.nheliterealestate.com/get_started\n\n \n\nPlease reach out with any questions you may have.
X-ALT-DESC;FMTTYPE=text/html:<div>\n<div>Have you ever thought about getting into real estate\, but didn&rsquo\;t know how to get started? This is your chance to learn about a real estate career and what it takes to become a real estate agent.<br />\n&nbsp\;</div>\n</div>\n\n<div>\n<div>We are offering 2 different sessions\; January 14th and January 28th. This is a FREE event and anyone can attend. Visit our Facebook event page to sign up or the links below for the date that works best for you.<br />\n&nbsp\;</div>\n</div>\n\n<div>\n<div>Topics will include:</div>\n\n<div>&bull\;&nbsp\;Overall career of real estate agent outlook</div>\n\n<div>&bull\;&nbsp\;How agents are paid as independent contractors</div>\n\n<div>&bull\; Expenses an agent is responsible for</div>\n\n<div>&bull\;&nbsp\;Path of getting licensed and cost to start</div>\n\n<div>&bull\;&nbsp\;Myths of a real estate career</div>\n\n<div>&bull\;&nbsp\;And so much more<br />\n<br />\n<u><strong><span style="background-color:rgb(255\, 255\, 255)\; color:rgb(5\, 5\, 5)\; font-family:segoe ui historic\,segoe ui\,helvetica\,arial\,sans-serif\; font-size:15px">January 14th registration link:&nbsp\;</span><a class="oajrlxb2 g5ia77u1 qu0x051f esr5mh6w e9989ue4 r7d6kgcz rq0escxv nhd2j8a9 nc684nl6 p7hjln8o kvgmc6g5 cxmmr5t8 oygrvhab hcukyx3x jb3vyjys rz4wbd8a qt6c0cv9 a8nywdso i1ao9s8h esuyzwwr f1sip0of lzcic4wl py34i1dx gpro0wi8" href="https://bit.ly/2JrgcL9?fbclid=IwAR2RqCQwm4Gn-S5og7DdjCL0ZYnGdq_1fdDym_7GfoNTAcCjfBn6Y9-oNRc" rel="nofollow noopener" style="cursor: pointer\; text-decoration-line: none\; outline: none\; list-style: none\; border-width: 0px\; border-style: initial\; border-color: initial\; padding: 0px\; margin: 0px\; touch-action: manipulation\; background-color: rgb(255\, 255\, 255)\; display: inline\; -webkit-tap-highlight-color: transparent\; box-sizing: border-box\; font-family: &quot\;Segoe UI Historic&quot\;\, &quot\;Segoe UI&quot\;\, Helvetica\, Arial\, sans-serif\; font-size: 15px\;" tabindex="0" target="_blank">https://bit.ly/2JrgcL9</a><br />\n<span style="background-color:rgb(255\, 255\, 255)\; color:rgb(5\, 5\, 5)\; font-family:segoe ui historic\,segoe ui\,helvetica\,arial\,sans-serif\; font-size:15px">January 28th registration link:&nbsp\;</span></strong></u><a class="oajrlxb2 g5ia77u1 qu0x051f esr5mh6w e9989ue4 r7d6kgcz rq0escxv nhd2j8a9 nc684nl6 p7hjln8o kvgmc6g5 cxmmr5t8 oygrvhab hcukyx3x jb3vyjys rz4wbd8a qt6c0cv9 a8nywdso i1ao9s8h esuyzwwr f1sip0of lzcic4wl py34i1dx gpro0wi8" href="https://bit.ly/34PXCEV?fbclid=IwAR2VNBm-BOLBfyOnLtgEG-rk0HulMqc8S5Nwk8jLMLSm7hyfsl63Bj9epHc" rel="nofollow noopener" style="cursor: pointer\; text-decoration-line: none\; outline: none\; list-style: none\; border-width: 0px\; border-style: initial\; border-color: initial\; padding: 0px\; margin: 0px\; touch-action: manipulation\; background-color: rgb(255\, 255\, 255)\; display: inline\; -webkit-tap-highlight-color: transparent\; box-sizing: border-box\; font-family: &quot\;Segoe UI Historic&quot\;\, &quot\;Segoe UI&quot\;\, Helvetica\, Arial\, sans-serif\; font-size: 15px\;" tabindex="0" target="_blank"><u><strong>https://bit.ly/34PXCEV</strong></u></a><br />\n&nbsp\;</div>\n</div>\n\n<div>\n<div>If you&#39\;re looking to start a career in real estate\, we can help. We offer the WRA prelicensing course at a discounted rate. Head to our website to sign up. &rarr\; https://www.nheliterealestate.com/get_started<br />\n&nbsp\;</div>\n\n<div>Please reach out with any questions you may have.</div>\n</div>\n
LOCATION:Virtually via Zoom.
UID:e.1184.26147
SEQUENCE:3
DTSTAMP:20260422T120647Z
URL:http://members.saukprairie.com/events/details/explore-a-career-in-real-estate-26147
END:VEVENT

END:VCALENDAR
