BEGIN:VCALENDAR
VERSION:2.0
PRODID:-//ChamberMaster//Event Calendar 2.0//EN
METHOD:PUBLISH
X-PUBLISHED-TTL:P3D
REFRESH-INTERVAL:P3D
CALSCALE:GREGORIAN
BEGIN:VEVENT
DTSTART:20221215T230000Z
DTEND:20221216T010000Z
X-MICROSOFT-CDO-ALLDAYEVENT:FALSE
SUMMARY:Explore at Five: Bank of Prairie du Sac
DESCRIPTION:No agenda. No long speeches. Just food\, networking\, and the opportunity to learn more about Sauk Prairie area businesses\, with tours\, inside looks\, and connecting with others in growing commerce and employment opportunities.  Join us from 5   7 pm for your inside tour and area connection.
X-ALT-DESC;FMTTYPE=text/html:No agenda. No long speeches. Just food\, networking\, and the opportunity to learn more about Sauk Prairie area businesses\, with tours\, inside looks\, and connecting with others in growing commerce and employment opportunities.&nbsp\; Join us from 5 &ndash\; 7 pm for your inside tour and area connection.&nbsp\;
LOCATION:
UID:e.1184.27033
SEQUENCE:3
DTSTAMP:20260421T004242Z
URL:http://members.saukprairie.com/events/details/explore-at-five-bank-of-prairie-du-sac-27033
END:VEVENT

END:VCALENDAR
