BEGIN:VCALENDAR
VERSION:2.0
PRODID:-//ChamberMaster//Event Calendar 2.0//EN
METHOD:PUBLISH
X-PUBLISHED-TTL:P3D
REFRESH-INTERVAL:P3D
CALSCALE:GREGORIAN
BEGIN:VEVENT
DTSTART:20220421T210000Z
DTEND:20220421T230000Z
X-MICROSOFT-CDO-ALLDAYEVENT:FALSE
SUMMARY:Explore at Four: McFarlane Manufacturing Co.
DESCRIPTION:No agenda. No long speeches. Just food\, networking\, and the opportunity to learn more about Sauk Prairie area businesses\, with tours\, inside looks\, and connecting with others in growing commerce and employment opportunities.  Join us from 4   6 pm for your inside tour and area connection.
X-ALT-DESC;FMTTYPE=text/html:No agenda. No long speeches. Just food\, networking\, and the opportunity to learn more about Sauk Prairie area businesses\, with tours\, inside looks\, and connecting with others in growing commerce and employment opportunities.&nbsp\; Join us from 4 &ndash\; 6 pm for your inside tour and area connection.&nbsp\;
LOCATION:
UID:e.1184.27030
SEQUENCE:3
DTSTAMP:20260423T093330Z
URL:http://members.saukprairie.com/events/details/explore-at-four-mcfarlane-manufacturing-co-27030
END:VEVENT

END:VCALENDAR
