BEGIN:VCALENDAR
VERSION:2.0
PRODID:-//ChamberMaster//Event Calendar 2.0//EN
METHOD:PUBLISH
X-PUBLISHED-TTL:P3D
REFRESH-INTERVAL:P3D
CALSCALE:GREGORIAN
BEGIN:VEVENT
DTSTART:20230713T210000Z
DTEND:20230714T020000Z
X-MICROSOFT-CDO-ALLDAYEVENT:FALSE
SUMMARY:Explore at Four: Tools of Marketing
DESCRIPTION:No agenda. No long speeches. Just food\, networking\, and the opportunity to learn more about Sauk Prairie area businesses\, with tours\, inside looks\, and connecting with others in growing commerce and employment opportunities.  Join us from 4   9 pm for your inside tour and area connection.
X-ALT-DESC;FMTTYPE=text/html:No agenda. No long speeches. Just food\, networking\, and the opportunity to learn more about Sauk Prairie area businesses\, with tours\, inside looks\, and connecting with others in growing commerce and employment opportunities.&nbsp\; Join us from 4 &ndash\; 9 pm for your inside tour and area connection.&nbsp\;
LOCATION:
UID:e.1184.29322
SEQUENCE:3
DTSTAMP:20260420T115754Z
URL:http://members.saukprairie.com/events/details/explore-at-four-tools-of-marketing-29322
END:VEVENT

END:VCALENDAR
