BEGIN:VCALENDAR
VERSION:2.0
PRODID:-//ChamberMaster//Event Calendar 2.0//EN
METHOD:PUBLISH
X-PUBLISHED-TTL:P3D
REFRESH-INTERVAL:P3D
CALSCALE:GREGORIAN
BEGIN:VEVENT
DTSTART;VALUE=DATE:20170923
DTEND;VALUE=DATE:20170924
TRANSP:TRANSPARENT
X-MICROSOFT-CDO-ALLDAYEVENT:TRUE
SUMMARY:Explore Badger Day
DESCRIPTION:Today (Saturday\, September 23) is an opportunity for you to learn and explore "everything Badger" by joining us for one or many activities at the former Badger Army Ammunition Plant.  There are planned events  hikes and bike rides\, prairie restoration\, Badger Museum tours\, and bus tours of Badger  throughout the day starting at 9am.
X-ALT-DESC;FMTTYPE=text/html:<span style="color: rgb(100\, 81\, 66)\; font-family: &quot\;Droid Sans&quot\;\; font-size: 13px\; background-color: rgb(255\, 255\, 255)\;">Today (Saturday\, September 23) is an opportunity for you to learn and explore &ldquo\;everything Badger&rdquo\; by joining us for one or many activities at the former Badger Army Ammunition Plant. &nbsp\;There are planned events &ndash\;hikes and bike rides\, prairie restoration\, Badger Museum tours\, and bus tours of Badger&ndash\; throughout the day starting at 9am.&nbsp\;</span>
LOCATION:Sauk Prairie Recreation Area- Badger Lands
UID:e.1184.13948
SEQUENCE:3
DTSTAMP:20260424T235931Z
URL:http://members.saukprairie.com/events/details/explore-badger-day-13948
END:VEVENT

END:VCALENDAR
