BEGIN:VCALENDAR
VERSION:2.0
PRODID:-//ChamberMaster//Event Calendar 2.0//EN
METHOD:PUBLISH
X-PUBLISHED-TTL:P3D
REFRESH-INTERVAL:P3D
CALSCALE:GREGORIAN
BEGIN:VEVENT
DTSTART:20160620T180000Z
DTEND:20160620T190000Z
X-MICROSOFT-CDO-ALLDAYEVENT:FALSE
SUMMARY:Extreme Jump Roping Show
DESCRIPTION:He may not be from another planet\, but the rope jumping feats he performs are certainly out of this world. The Rope Warrior (David Fisher) is a lean\, mean jumping machine who executes stunts that most of us can't even imagine using a jump rope. Join us for a thrilling combination of the best elements of rope jumping\, dance aerobics\, martial arts and rhythmic gymnastics - including a spectacular light show! All ages are welcome\, but children under 5 must be accompanied by an adult. Contact Beth at 643-8318 with questions.
X-ALT-DESC;FMTTYPE=text/html:He may not be from another planet\, but the rope jumping feats he performs are certainly out of this world. The Rope Warrior (David Fisher) is a lean\, mean jumping machine who executes stunts that most of us can&#39\;t even imagine using a jump rope. Join us for a thrilling combination of the best elements of rope jumping\, dance aerobics\, martial arts and rhythmic gymnastics - including a spectacular light show! All ages are welcome\, but children under 5 must be accompanied by an adult. Contact Beth at 643-8318 with questions.
LOCATION:Ruth Culver Community Library 540 Water Street\, Prairie du Sac
UID:e.1184.8496
SEQUENCE:3
DTSTAMP:20260426T003716Z
URL:http://members.saukprairie.com/events/details/extreme-jump-roping-show-06-20-2016-8496
END:VEVENT

END:VCALENDAR
