BEGIN:VCALENDAR
VERSION:2.0
PRODID:-//ChamberMaster//Event Calendar 2.0//EN
METHOD:PUBLISH
X-PUBLISHED-TTL:P3D
REFRESH-INTERVAL:P3D
CALSCALE:GREGORIAN
BEGIN:VEVENT
DTSTART:20231209T160000Z
DTEND:20231209T180000Z
X-MICROSOFT-CDO-ALLDAYEVENT:FALSE
SUMMARY:Fa-La-La-La-La Library Fun
DESCRIPTION:School-age children and an adult can explore their creative sides by making and embellishing cards and gift boxes. All supplies included. We'll have a variety of die-cutting machines\, papers\, and other craft supplies for you to choose from. Holiday music and free hot chocolate will help get you in the holiday spirit! This is a drop-in event\, and no registration is necessary.
X-ALT-DESC;FMTTYPE=text/html:School-age children and an adult can explore their creative sides by making and embellishing cards and gift boxes. All supplies included. We&#39\;ll have a variety of die-cutting machines\, papers\, and other craft supplies for you to choose from. Holiday music and free hot chocolate will help get you in the holiday spirit! This is a drop-in event\, and no registration is necessary.&nbsp\;
LOCATION:615 Phillips Blvd. Sauk City\, WI 53583
UID:e.1184.31357
SEQUENCE:3
DTSTAMP:20260420T033033Z
URL:http://members.saukprairie.com/events/details/fa-la-la-la-la-library-fun-31357
END:VEVENT

END:VCALENDAR
