BEGIN:VCALENDAR
VERSION:2.0
PRODID:-//ChamberMaster//Event Calendar 2.0//EN
METHOD:PUBLISH
X-PUBLISHED-TTL:P3D
REFRESH-INTERVAL:P3D
CALSCALE:GREGORIAN
BEGIN:VEVENT
DTSTART:20220225T010000Z
DTEND:20220225T020000Z
X-MICROSOFT-CDO-ALLDAYEVENT:FALSE
SUMMARY:Facebook LIVE Sale- Willow & Ivy Boutique
DESCRIPTION:Join us on our FB Page for our weekly LIVE Sale featuring all NEW RELEASES!
X-ALT-DESC;FMTTYPE=text/html:Join us on our FB Page for our weekly LIVE Sale featuring all NEW RELEASES!
LOCATION:Online on our Facebook page at: https://www.facebook.com/willowandivybtq
UID:e.1184.27146
SEQUENCE:3
DTSTAMP:20260421T160748Z
URL:http://members.saukprairie.com/events/details/facebook-live-sale-willow-ivy-boutique-02-24-2022-27146
END:VEVENT

END:VCALENDAR
