BEGIN:VCALENDAR
VERSION:2.0
PRODID:-//ChamberMaster//Event Calendar 2.0//EN
METHOD:PUBLISH
X-PUBLISHED-TTL:P3D
REFRESH-INTERVAL:P3D
CALSCALE:GREGORIAN
BEGIN:VEVENT
DTSTART:20220211T010000Z
DTEND:20220211T020000Z
X-MICROSOFT-CDO-ALLDAYEVENT:FALSE
SUMMARY:Facebook LIVE Sale- Willow & Ivy Boutique
DESCRIPTION:Join us on our facebook page for our LIVE Sale featuring NEW Releases in the Boutique!
X-ALT-DESC;FMTTYPE=text/html:Join us on our facebook page for our LIVE Sale featuring NEW Releases in the Boutique!
LOCATION:Online LIVE Sale on our Willow and Ivy Boutique Facebook Page!
UID:e.1184.27132
SEQUENCE:3
DTSTAMP:20260421T160536Z
URL:http://members.saukprairie.com/events/details/facebook-live-sale-willow-ivy-boutique-27132
END:VEVENT

END:VCALENDAR
